BEGIN:VCALENDAR
VERSION:2.0
PRODID:-//ChamberMaster//Event Calendar 2.0//EN
METHOD:PUBLISH
X-PUBLISHED-TTL:P3D
REFRESH-INTERVAL:P3D
CALSCALE:GREGORIAN
BEGIN:VEVENT
DTSTART:20220411T170000Z
DTEND:20220411T183000Z
X-MICROSOFT-CDO-ALLDAYEVENT:FALSE
SUMMARY:Garrison Lecture Luncheon Featuring Sylvia Acevedo
DESCRIPTION:Ms. Acevedo will share her insights on the "Importance of Education in Achieving Success" Noon | Monday\, April 11\, 2022 McMurry University | Garrison Campus Center BIO: Sylvia Acevedo began her career in systems engineering at NASA's Jet Propulsion Laboratory. Her early career accomplishments led to leadership roles at some of the world's most respected corporations\, including IBM\, Apple\, Autodesk\, and Dell. She is a tireless advocate for early childhood education and science\, technology\, engineering\, and math (STEM) opportunities\, which led to her founding of CommuniCard\, Inc\, a company that provides education\, technology and healthcare to underserved markets. She later sold the company to pursue a career that combined her experience\, interests\, and greatest hopes for the future: CEO of Girl Scouts of the USA. Her bold vision and relentless energy underscored the Girl Scouts' commitment to preparing girls for success if life and work\, employing cutting-edge\, research-backed\, and girl-centered programming to expand the country's workforce pipeline with innovators\, risk-takers\, and leaders.
X-ALT-DESC;FMTTYPE=text/html:Ms. Acevedo will share her insights on the &ldquo\;Importance of Education in Achieving Success&rdquo\; Noon | Monday\, April 11\, 2022 McMurry University | Garrison Campus Center BIO: Sylvia Acevedo began her career in systems engineering at NASA&rsquo\;s Jet Propulsion Laboratory. Her early career accomplishments led to leadership roles at some of the world&rsquo\;s most respected corporations\, including IBM\, Apple\, Autodesk\, and Dell. She is a tireless advocate for early childhood education and science\, technology\, engineering\, and math (STEM) opportunities\, which led to her founding of CommuniCard\, Inc\, a company that provides education\, technology and healthcare to underserved markets. She later sold the company to pursue a career that combined her experience\, interests\, and greatest hopes for the future: CEO of Girl Scouts of the USA. Her bold vision and relentless energy underscored the Girl Scouts&rsquo\; commitment to preparing girls for success if life and work\, employing cutting-edge\, research-backed\, and girl-centered programming to expand the country&rsquo\;s workforce pipeline with innovators\, risk-takers\, and leaders.
LOCATION:McMurry University Garrison Campus Center | Mabee Room
UID:e.3433.4647
SEQUENCE:3
DTSTAMP:20260425T201831Z
URL:https://business.abilenechamber.com/events/details/garrison-lecture-luncheon-featuring-sylvia-acevedo-4647
END:VEVENT

END:VCALENDAR
