BEGIN:VCALENDAR
VERSION:2.0
PRODID:-//ChamberMaster//Event Calendar 2.0//EN
METHOD:PUBLISH
X-PUBLISHED-TTL:P3D
REFRESH-INTERVAL:P3D
CALSCALE:GREGORIAN
BEGIN:VEVENT
DTSTART:20220427T190000Z
DTEND:20220427T200000Z
X-MICROSOFT-CDO-ALLDAYEVENT:FALSE
SUMMARY:Excel for Beginners - Virtual Training Webinar
DESCRIPTION:Are you a recent graduate or beginner Excel user? In this session\, we will learn how to get started with Excel (create\, save\, open and close workbooks)\, modify worksheets\, use basic formulas and functions and format/view/print worksheets. Register here: https://register.gotowebinar.com/register/4349680516281430544
X-ALT-DESC;FMTTYPE=text/html:Are you a recent graduate or beginner Excel user? In this session\, we will learn how to get started with Excel (create\, save\, open and close workbooks)\, modify worksheets\, use basic formulas and functions and format/view/print worksheets. Register here: https://register.gotowebinar.com/register/4349680516281430544
LOCATION:Virtual Webinar: Register here: https://register.gotowebinar.com/register/4349680516281430544
UID:e.3433.4661
SEQUENCE:3
DTSTAMP:20260425T214246Z
URL:https://business.abilenechamber.com/events/details/excel-for-beginners-virtual-training-webinar-4661
END:VEVENT

END:VCALENDAR
