BEGIN:VCALENDAR
VERSION:2.0
PRODID:-//ChamberMaster//Event Calendar 2.0//EN
METHOD:PUBLISH
X-PUBLISHED-TTL:P3D
REFRESH-INTERVAL:P3D
CALSCALE:GREGORIAN
BEGIN:VEVENT
DTSTART:20210424T150000Z
DTEND:20210424T230000Z
X-MICROSOFT-CDO-ALLDAYEVENT:FALSE
SUMMARY:Elmwood West Shopping Center 70th Birthday Block Party
DESCRIPTION:Huge block party hosted by The Other Antique Shop at the corners of S7th and S Leggett.  There will be a Classic Car Show (Hooligans Car Club)\, Live music\, Rock Climbing\, Local vendors\, Jack & Jill's Storybook Co and Face painting.  There will also be food trucks!
X-ALT-DESC;FMTTYPE=text/html:Huge block party hosted by The Other Antique Shop at the corners of S7th and S Leggett.&nbsp\; There will be a Classic Car Show (Hooligans Car Club)\, Live music\, Rock Climbing\, Local vendors\, Jack &amp\; Jill&#39\;s Storybook Co and Face painting.&nbsp\; There will also be food trucks!
LOCATION:
UID:e.3433.4341
SEQUENCE:3
DTSTAMP:20260423T185108Z
URL:https://business.abilenechamber.com/events/details/elmwood-west-shopping-center-70th-birthday-block-party-4341
END:VEVENT

END:VCALENDAR
