BEGIN:VCALENDAR
VERSION:2.0
PRODID:-//ChamberMaster//Event Calendar 2.0//EN
METHOD:PUBLISH
X-PUBLISHED-TTL:P3D
REFRESH-INTERVAL:P3D
CALSCALE:GREGORIAN
BEGIN:VEVENT
DTSTART:20220425T150000Z
DTEND:20220503T230000Z
X-MICROSOFT-CDO-ALLDAYEVENT:FALSE
SUMMARY:Early Voting
DESCRIPTION:Early Voting is back at the Mall of Abilene! May 7 Constitutional Amendment Election Early Voting Schedule: Monday\, April 25- Friday\, April 29: 10AM-6PM Monday\, May 2- Tuesday\, May 3: 10AM-6PM Located in the movie theatre wing between Kay Jewelers & Francesca's. Contact (325) 674-1216 for details.
X-ALT-DESC;FMTTYPE=text/html:Early Voting is back at the Mall of Abilene! May 7 Constitutional Amendment Election Early Voting Schedule: Monday\, April 25- Friday\, April 29: 10AM-6PM Monday\, May 2- Tuesday\, May 3: 10AM-6PM Located in the movie theatre wing between Kay Jewelers &amp\; Francesca&rsquo\;s. Contact (325) 674-1216 for details.
LOCATION:Mall of Abilene\, near Kay Jewelers
UID:e.3433.4657
SEQUENCE:3
DTSTAMP:20260425T184138Z
URL:https://business.abilenechamber.com/events/details/early-voting-4657
END:VEVENT

END:VCALENDAR
