BEGIN:VCALENDAR
VERSION:2.0
PRODID:-//ChamberMaster//Event Calendar 2.0//EN
METHOD:PUBLISH
X-PUBLISHED-TTL:P3D
REFRESH-INTERVAL:P3D
CALSCALE:GREGORIAN
BEGIN:VEVENT
DTSTART:20220516T150000Z
DTEND:20220520T230000Z
X-MICROSOFT-CDO-ALLDAYEVENT:FALSE
SUMMARY:Early Voting
DESCRIPTION:May 24 Primary Run-Off Election Early Contact (325) 674-1216 for details.
X-ALT-DESC;FMTTYPE=text/html:May 24 Primary Run-Off Election Early Contact (325) 674-1216 for details.
LOCATION:Mall of Abilene\, near Kay Jewelers
UID:e.3433.4673
SEQUENCE:3
DTSTAMP:20260425T184756Z
URL:https://business.abilenechamber.com/events/details/early-voting-05-16-2022-4673
END:VEVENT

END:VCALENDAR
