BEGIN:VCALENDAR
VERSION:2.0
PRODID:-//ChamberMaster//Event Calendar 2.0//EN
METHOD:PUBLISH
X-PUBLISHED-TTL:P3D
REFRESH-INTERVAL:P3D
CALSCALE:GREGORIAN
BEGIN:VEVENT
DTSTART:20210715T230000Z
DTEND:20210716T020000Z
X-MICROSOFT-CDO-ALLDAYEVENT:FALSE
SUMMARY:Dachshund Races and Rescued Dog Reunion
DESCRIPTION:Rescued Dog All-Breed Reunion This is the dog "Show" for every dog\, not just the ones with papers! Come show off your rescued dog in the show ring before the Dachshund Races. Dress up and dress up your dog for our Costume Contest. Just show up and enjoy the Reunion. No registration needed. Your dog can win a trophy! We'll have lots of trophies\, and we want your dog to take one home. We're sure your dog will be the winner in at least one of our categories. Smallest Dog Tallest Dog Fat Dog of the Year Youngest Dog Oldest Dog Owner and Dog Look-a-Like Couple of the Year Best Costume Mr. and Mrs. Congeniality We will also pick a Homecoming King and Queen! Then Dachshund Races begin at 7pm!
X-ALT-DESC;FMTTYPE=text/html:Rescued Dog All-Breed Reunion This is the dog &ldquo\;Show&rdquo\; for every dog\, not just the ones with papers! Come show off your rescued dog in the show ring before the Dachshund Races. Dress up and dress up your dog for our Costume Contest. Just show up and enjoy the Reunion. No registration needed. Your dog can win a trophy! We&rsquo\;ll have lots of trophies\, and we want your dog to take one home. We&rsquo\;re sure your dog will be the winner in at least one of our categories. Smallest Dog Tallest Dog Fat Dog of the Year Youngest Dog Oldest Dog Owner and Dog Look-a-Like Couple of the Year Best Costume Mr. and Mrs. Congeniality We will also pick a Homecoming King and Queen! Then Dachshund Races begin at 7pm!
LOCATION:Festival Gardens across from the Zoo
UID:e.3433.4412
SEQUENCE:3
DTSTAMP:20260423T223847Z
URL:https://business.abilenechamber.com/events/details/dachshund-races-and-rescued-dog-reunion-4412
END:VEVENT

END:VCALENDAR
