BEGIN:VCALENDAR
VERSION:2.0
PRODID:-//ChamberMaster//Event Calendar 2.0//EN
METHOD:PUBLISH
X-PUBLISHED-TTL:P3D
REFRESH-INTERVAL:P3D
CALSCALE:GREGORIAN
BEGIN:VEVENT
DTSTART:20221013T170000Z
DTEND:20221013T183000Z
X-MICROSOFT-CDO-ALLDAYEVENT:FALSE
SUMMARY:Creating a Culture of Security: Cybersecurity Trends
DESCRIPTION:Have you created a culture of security within your organization? Cyberattacks are consistently targeting organizations and your cybersecurity defenses need to be successful every time. Preparing for a cyber incident now\, will save you time and money in the future. Not getting cybersecurity right could mean going out of business\, should a breach occur. Our team is here to help you create a culture of security\; learn more about current trends and next steps. Following the webinar\, we will host general and industry-specific breakouts for the dealership and government industries. When registering\, please identify whether you would like to participate in one of these industry breakouts. Learning Objectives: Illustrate cybersecurity trends. Identify the risks of error for your business. Discuss next steps to mitigate risk. Presenter: Kyle Hendrickson\, Director of Cybersecurity | Eide Bailly Kyle Hendrickson has been in Information Technology leadership roles for the past two decades\, spending the last 15 years leading Cybersecurity Teams and providing strategic guidance for C-Suites. During this time\, he built multiple IT and Cybersecurity groups from the ground up   creating the vision and enabling the resources to keep important data and systems safe and secure. Most recently Kyle was responsible for building the cyber defense capability at a regional financial institution focused on improving visibility to all systems while reducing the attack surface of the organization. Breakout Facilitators: Dealership: Brittany Dunn\, CPA\, Partner Alex Brown\, ITIL-F\, Manager of Cybersecurity Business Development Government: Lealan Miller\, CPA\, Partner Chris Williams\, Security+\, Senior Associate General: Dale Lozo\, CISSP\, CIAM\, CIGE\, ITIL-F\, Senior Manager Kyle Hendrickson\, Director of Cybersecurity CPE Information CPE Credit: 1 Field of Study: Information Technology Level of Knowledge: Basic Delivery Method: Group-Internet Based Additional Information: This is a Group-Internet Based Webinar. No prerequisites or advanced preparation required. For information regarding a complaint and/or program cancellation policies\, please contact Amy DeGeorge.
X-ALT-DESC;FMTTYPE=text/html:Have you created a culture of security within your organization? Cyberattacks are consistently targeting organizations and your cybersecurity defenses need to be successful every time. Preparing for a cyber incident now\, will save you time and money in the future. Not getting cybersecurity right could mean going out of business\, should a breach occur. Our team is here to help you create a culture of security\; learn more about current trends and next steps. Following the webinar\, we will host general and industry-specific breakouts for the dealership and government industries. When registering\, please identify whether you would like to participate in one of these industry breakouts. Learning Objectives: Illustrate cybersecurity trends. Identify the risks of error for your business. Discuss next steps to mitigate risk. Presenter: Kyle Hendrickson\, Director of Cybersecurity | Eide Bailly Kyle Hendrickson has been in Information Technology leadership roles for the past two decades\, spending the last 15 years leading Cybersecurity Teams and providing strategic guidance for C-Suites. During this time\, he built multiple IT and Cybersecurity groups from the ground up &ndash\; creating the vision and enabling the resources to keep important data and systems safe and secure. Most recently Kyle was responsible for building the cyber defense capability at a regional financial institution focused on improving visibility to all systems while reducing the attack surface of the organization. Breakout Facilitators: Dealership: Brittany Dunn\, CPA\, Partner Alex Brown\, ITIL-F\, Manager of Cybersecurity Business Development Government: Lealan Miller\, CPA\, Partner Chris Williams\, Security+\, Senior Associate General: Dale Lozo\, CISSP\, CIAM\, CIGE\, ITIL-F\, Senior Manager Kyle Hendrickson\, Director of Cybersecurity CPE Information CPE Credit: 1 Field of Study: Information Technology Level of Knowledge: Basic Delivery Method: Group-Internet Based Additional Information: This is a Group-Internet Based Webinar. No prerequisites or advanced preparation required. For information regarding a complaint and/or program cancellation policies\, please contact Amy DeGeorge.
LOCATION:Online webinar
UID:e.3433.4800
SEQUENCE:3
DTSTAMP:20260425T114642Z
URL:https://business.abilenechamber.com/events/details/creating-a-culture-of-security-cybersecurity-trends-10-13-2022-4800
END:VEVENT

END:VCALENDAR
