BEGIN:VCALENDAR
VERSION:2.0
PRODID:-//ChamberMaster//Event Calendar 2.0//EN
METHOD:PUBLISH
X-PUBLISHED-TTL:P3D
REFRESH-INTERVAL:P3D
CALSCALE:GREGORIAN
BEGIN:VEVENT
DTSTART:20241119T214500Z
DTEND:20241119T224500Z
X-MICROSOFT-CDO-ALLDAYEVENT:FALSE
SUMMARY:Condley and Company\, LLP - 85th Anniversary Ribbon Cutting
DESCRIPTION:Join us as we celebrate Condley and Company\, LLP's  85th Anniversary!
X-ALT-DESC;FMTTYPE=text/html:Join us as we celebrate Condley and Company\, LLP&#39\;s&nbsp\; 85th Anniversary!
LOCATION:Condley and Company\, LLP 302 Pine Street Abilene\, TX 79601
UID:e.3433.5432
SEQUENCE:3
DTSTAMP:20260423T110154Z
URL:https://business.abilenechamber.com/events/details/condley-and-company-llp-85th-anniversary-ribbon-cutting-5432
END:VEVENT

END:VCALENDAR
