BEGIN:VCALENDAR
VERSION:2.0
PRODID:-//ChamberMaster//Event Calendar 2.0//EN
METHOD:PUBLISH
X-PUBLISHED-TTL:P3D
REFRESH-INTERVAL:P3D
CALSCALE:GREGORIAN
BEGIN:VEVENT
DTSTART:20241107T210000Z
DTEND:20241107T220000Z
X-MICROSOFT-CDO-ALLDAYEVENT:FALSE
SUMMARY:Coca-Cola Southwest Beverages 120th Anniversary
DESCRIPTION:Come and join is as we celebrate 120 years of Coca-Cola being in Abilene\, TX!
X-ALT-DESC;FMTTYPE=text/html:Come and join is as we celebrate 120 years of Coca-Cola being in Abilene\, TX!
LOCATION:1000 E Overland Trail Abilene\, TX 79601
UID:e.3433.5431
SEQUENCE:3
DTSTAMP:20260423T105520Z
URL:https://business.abilenechamber.com/events/details/coca-cola-southwest-beverages-120th-anniversary-5431
END:VEVENT

END:VCALENDAR
