BEGIN:VCALENDAR
VERSION:2.0
PRODID:-//ChamberMaster//Event Calendar 2.0//EN
METHOD:PUBLISH
X-PUBLISHED-TTL:P3D
REFRESH-INTERVAL:P3D
CALSCALE:GREGORIAN
BEGIN:VEVENT
DTSTART;VALUE=DATE:20220323
DTEND;VALUE=DATE:20220424
TRANSP:TRANSPARENT
X-MICROSOFT-CDO-ALLDAYEVENT:TRUE
SUMMARY:Cisco College: Leadership & Management Styles Module 1
DESCRIPTION:This is an online course that introduces participants to basic leadership and business management principles particularly relevant to small business owners and entrepreneurs. Those just starting in business as well as experienced entrepreneurs will benefit from exploring the theoretical foundations for leadership\, change management\, and emotional intelligence\, as well as practical tools for assessing the competitive landscape and developing continuous improvement plans to facilitate long-term business success.\n\n\n\nCourse made available through the West Texas Business Navigator program. To learn more about the program\, click here.
X-ALT-DESC;FMTTYPE=text/html:This is an online course that introduces participants to basic leadership and business management principles particularly relevant to small business owners and entrepreneurs. Those just starting in business as well as experienced entrepreneurs will benefit from exploring the theoretical foundations for leadership\, change management\, and emotional intelligence\, as well as practical tools for assessing the competitive landscape and developing continuous improvement plans to facilitate long-term business success.<br />\n<br />\nCourse made available through the <strong><a href="https://www.abilenechamber.com/programs-initiatives/navigators/"><span style="color:#FF0000\;">West Texas Business Navigator</span></a><span style="color:#FF0000\;"> </span></strong>program. To learn more about the program\, <strong><a href="https://www.abilenechamber.com/programs-initiatives/navigators/"><span style="color:#FF0000\;">click here.</span></a></strong>
LOCATION:Register online through Cisco College (https://www.cisco.edu/businessnavigator)
UID:e.3433.4598
SEQUENCE:3
DTSTAMP:20260425T201313Z
URL:https://business.abilenechamber.com/events/details/cisco-college-leadership-management-styles-module-1-4598
END:VEVENT

END:VCALENDAR
