BEGIN:VCALENDAR
VERSION:2.0
PRODID:-//ChamberMaster//Event Calendar 2.0//EN
METHOD:PUBLISH
X-PUBLISHED-TTL:P3D
REFRESH-INTERVAL:P3D
CALSCALE:GREGORIAN
BEGIN:VEVENT
DTSTART;VALUE=DATE:20220516
DTEND;VALUE=DATE:20220617
TRANSP:TRANSPARENT
X-MICROSOFT-CDO-ALLDAYEVENT:TRUE
SUMMARY:Cisco College: Financial Planning Course
DESCRIPTION:This financial planning course will help you understand the basics of financial planning\, investment planning\, retirement savings and income planning\, tax and estate planning\, risk management and insurance planning\, and education planning. Blake Fambrough of Cisco College will guide this self-paced online course.
X-ALT-DESC;FMTTYPE=text/html:This financial planning course will help you understand the basics of financial planning\, investment planning\, retirement savings and income planning\, tax and estate planning\, risk management and insurance planning\, and education planning. Blake Fambrough of Cisco College will guide this self-paced online course.
LOCATION:Online: https://www.cisco.edu/businessnavigator
UID:e.3433.4640
SEQUENCE:3
DTSTAMP:20260425T172322Z
URL:https://business.abilenechamber.com/events/details/cisco-college-financial-planning-course-4640
END:VEVENT

END:VCALENDAR
