BEGIN:VCALENDAR
VERSION:2.0
PRODID:-//ChamberMaster//Event Calendar 2.0//EN
METHOD:PUBLISH
X-PUBLISHED-TTL:P3D
REFRESH-INTERVAL:P3D
CALSCALE:GREGORIAN
BEGIN:VEVENT
DTSTART:20191109T000000Z
DTEND:20191111T010000Z
X-MICROSOFT-CDO-ALLDAYEVENT:FALSE
SUMMARY:Christmas In November
DESCRIPTION:Annual craft show sponsored by American Business Women's Association\, Oro Negra Chapter
X-ALT-DESC;FMTTYPE=text/html:Annual craft show sponsored by American Business Women&#39\;s Association\, Oro Negra Chapter
LOCATION:Abilene Convention Center
UID:e.3433.3782
SEQUENCE:3
DTSTAMP:20260423T144432Z
URL:https://business.abilenechamber.com/events/details/christmas-in-november-3782
END:VEVENT

END:VCALENDAR
