BEGIN:VCALENDAR
VERSION:2.0
PRODID:-//ChamberMaster//Event Calendar 2.0//EN
METHOD:PUBLISH
X-PUBLISHED-TTL:P3D
REFRESH-INTERVAL:P3D
CALSCALE:GREGORIAN
BEGIN:VEVENT
DTSTART:20191021T150000Z
DTEND:20191021T203000Z
X-MICROSOFT-CDO-ALLDAYEVENT:FALSE
SUMMARY:Chick-fil-A Leadership Summit featuring Michael Hyatt
DESCRIPTION:Abilene Business Leaders\,\n\n \n\nWe are hosting a Chick-fil-A Leader Summit with Michael Hyatt\, bestselling author\, leadership mentor\, and successful entrepreneur.\n\n\n\n \n\n\n\nIncludes workshop sessions with Michael Hyatt\, The Focused Leader workbook\, lunch/snacks\, & a copy of the Full Focus Planner (courtesy of Michael Hyatt & Co).\n\n\n\n \n\n\n\nWe highly encourage you and your team to join us as we learn about setting audacious goals and maximizing our schedule to achieve success. This conference is based on Michael Hyatt's one-day event\, The Focused Leader.\n\n\n\n \n\n\n\nPurchase Tickets: cfasouthclack.com/chickfila-leader-summit\n\nThe deadline to purchase tickets is Friday\, October 18th at 7:00pm. Seats are limited.\n\n\n \n\nWe are excited for what this event will mean for you and your team!
X-ALT-DESC;FMTTYPE=text/html:<div>\n<div>Abilene Business Leaders\,</div>\n\n<div>&nbsp\;</div>\n\n<div>We are hosting a&nbsp\;<strong>Chick-fil-A Leader Summit with&nbsp\;</strong><a href="http://michaelhyatt.com/" style="color: purple\;">Michael Hyatt</a>\, bestselling author\, leadership mentor\, and successful entrepreneur.</div>\n</div>\n\n<div>\n<div>&nbsp\;</div>\n</div>\n\n<div>\n<div>Includes workshop sessions with Michael Hyatt\, The Focused Leader workbook\, lunch/snacks\, &amp\; a copy of the Full Focus Planner (courtesy of Michael Hyatt &amp\; Co).</div>\n</div>\n\n<div>\n<div>&nbsp\;</div>\n</div>\n\n<div>\n<div>We highly encourage you and your team to join us as we learn about&nbsp\;setting audacious goals and maximizing our schedule to achieve success. This conference is based on Michael Hyatt&rsquo\;s one-day event\,&nbsp\;<a href="http://focusedleader.com/" style="color: purple\;">The Focused Leader</a>.</div>\n</div>\n\n<div>\n<div>&nbsp\;</div>\n</div>\n\n<div>\n<div><strong>Purchase Tickets:&nbsp\;</strong><a href="http://cfasouthclack.com/chickfila-leader-summit">cfasouthclack.com/chickfila-leader-summit</a></div>\n\n<div>The deadline to purchase tickets is Friday\, October 18th at 7:00pm. Seats are limited.</div>\n</div>\n\n<div>&nbsp\;</div>\n\n<div>We are excited for what this event will mean for you and your team!&nbsp\;</div>\n
LOCATION:Abilene Civic Center 1100 N 6th St Abilene\, TX 79601
UID:e.3433.3795
SEQUENCE:3
DTSTAMP:20260423T173107Z
URL:https://business.abilenechamber.com/events/details/chick-fil-a-leadership-summit-featuring-michael-hyatt-3795
END:VEVENT

END:VCALENDAR
