BEGIN:VCALENDAR
VERSION:2.0
PRODID:-//ChamberMaster//Event Calendar 2.0//EN
METHOD:PUBLISH
X-PUBLISHED-TTL:P3D
REFRESH-INTERVAL:P3D
CALSCALE:GREGORIAN
BEGIN:VEVENT
DTSTART:20241126T200000Z
DTEND:20241126T210000Z
X-MICROSOFT-CDO-ALLDAYEVENT:FALSE
SUMMARY:Camp Barkeley Ribbon Cutting
DESCRIPTION:Camp Barkeley is Reopening! Woof! We're reopening! That's something to wag about. We look forward to fun with your fuzzy friends soon! At Camp Barkeley\, every dog can have their day\, every day! Don't sit\, stay\, or roll over   run to Camp Barkeley & get your furry friend in on the fun! Details   Day: Tuesday   Date: November 26\, 2024   Time: 2:00 PM   Location: Camp Barkeley Dog Park   Address: 610 ES 11th St   Cost: FREE! More Info: (325) 676-6217
X-ALT-DESC;FMTTYPE=text/html:Camp Barkeley is Reopening! Woof! We&#39\;re reopening! That&#39\;s something to wag about. We look forward to fun with your fuzzy friends soon! At Camp Barkeley\, every dog can have their day\, every day! Don&#39\;t sit\, stay\, or roll over &mdash\; run to Camp Barkeley &amp\; get your furry friend in on the fun! Details &bull\; Day: Tuesday &bull\; Date: November 26\, 2024 &bull\; Time: 2:00 PM &bull\; Location: Camp Barkeley Dog Park &bull\; Address: 610 ES 11th St &bull\; Cost: FREE! More Info: (325) 676-6217
LOCATION:Location: Camp Barkeley Dog Park Address: 610 ES 11th St
UID:e.3433.5487
SEQUENCE:3
DTSTAMP:20260423T105325Z
URL:https://business.abilenechamber.com/events/details/camp-barkeley-ribbon-cutting-5487
END:VEVENT

END:VCALENDAR
