BEGIN:VCALENDAR
VERSION:2.0
PRODID:-//ChamberMaster//Event Calendar 2.0//EN
METHOD:PUBLISH
X-PUBLISHED-TTL:P3D
REFRESH-INTERVAL:P3D
CALSCALE:GREGORIAN
BEGIN:VEVENT
DTSTART:20220428T223000Z
DTEND:20220429T003000Z
X-MICROSOFT-CDO-ALLDAYEVENT:FALSE
SUMMARY:Business Navigator: Women for Downtown Abilene
DESCRIPTION:Meet\, Greet & Eat!\n\n\n\nCome meet up with your fellow business women who love Downtown Abilene as much as you do. Whether you work\, live\, or shop downtown\, enjoy meeting and mingling with fellow women business professionals in Abilene. \n\n\n\nA West Texas Business Navigator Event \n\n\n\nSupported by the SBA\n\nSponsored by Development Corporation of Abilene\, Grain Theory & Monk's
X-ALT-DESC;FMTTYPE=text/html:Meet\, Greet &amp\; Eat!<br />\n<br />\n<span class="JsGRdQ" style="color: rgb(0\, 0\, 0)\;">Come meet up with your fellow business women who love Downtown Abilene as much as you do. Whether you work\, live\, or shop downtown\, enjoy meeting and mingling with fellow women business professionals in Abilene.&nbsp\;</span><br />\n<br />\n<strong><span class="JsGRdQ"><a href="https://www.abilenechamber.com/programs-initiatives/navigators/"><span style="color:#FF0000\;">A West Texas Business Navigator Event</span></a><span style="color:#FF0000\;">&nbsp\;</span></span></strong><br />\n<br />\n<span class="JsGRdQ" style="color: rgb(0\, 0\, 0)\;">Supported by the SBA</span><br />\nSponsored by Development Corporation of Abilene\, Grain Theory &amp\; Monk&#39\;s
LOCATION:Grain Theory 202 Pine Street Abilene\, TX
UID:e.3433.4641
SEQUENCE:3
DTSTAMP:20260425T215129Z
URL:https://business.abilenechamber.com/events/details/business-navigator-women-for-downtown-abilene-4641
END:VEVENT

END:VCALENDAR
