BEGIN:VCALENDAR
VERSION:2.0
PRODID:-//ChamberMaster//Event Calendar 2.0//EN
METHOD:PUBLISH
X-PUBLISHED-TTL:P3D
REFRESH-INTERVAL:P3D
CALSCALE:GREGORIAN
BEGIN:VEVENT
DTSTART:20220428T140000Z
DTEND:20220428T150000Z
X-MICROSOFT-CDO-ALLDAYEVENT:FALSE
SUMMARY:Business Navigator Webinar: Building Workforce with the Military
DESCRIPTION:Have you heard of the DoD SkillBridge program? It allows transitioning Active Duty\, Coast Guard\, National Guard\, and Reservists the ability to take part in an unpaid internship or apprenticeship for up to 180 days\, with a company of their choosing\, and with the high likelihood of being hired on at the end.  It doesn't cost a company anything to file\, become approved\, or facilitate their program.\n\n\n\nDave Schantz\, DoD SkillBridge Champion\, leads the General Dynamics Information Technology SkillBridge program. He is also the facilitator of the LinkedIn group\, DoD SkillBridge Community of Practice. He will be providing a one-hour webinar on how your company can apply for career opportunities for exiting military members.\n\n\n\n[For more information\, SkillBridge at https://skillbridge.osd.mil/resources.htm]
X-ALT-DESC;FMTTYPE=text/html:<span style="background-image: initial\; background-position: initial\; background-size: initial\; background-repeat: initial\; background-attachment: initial\; background-origin: initial\; background-clip: initial\;"><span style="color: black\;">Have you heard of the<a href="https://skillbridge.osd.mil/resources.htm">&nbsp\;DoD SkillBridge</a>&nbsp\;program? It allows transitioning Active Duty\, Coast Guard\, National Guard\, and Reservists the ability to take part in an unpaid internship or apprenticeship for up to 180 days\, with a company of their choosing\, and with the high likelihood of being hired on at the end.&nbsp\; It doesn&rsquo\;t cost a company anything to file\, become approved\, or facilitate their program.</span></span><br />\n<br />\n<a href="https://www.linkedin.com/in/dave-schantz-skillbridge-champion/">Dave Schantz\,</a>&nbsp\;DoD SkillBridge Champion\, leads the General Dynamics Information Technology SkillBridge program. He is also the facilitator of the LinkedIn group\,&nbsp\;<a href="https://www.linkedin.com/groups/12257076/">DoD SkillBridge Community of Practice</a>. He will be providing a one-hour webinar on how your company can apply for career opportunities for exiting military members.<br />\n<br />\n<em>[For more information\, SkillBridge at&nbsp\;https://skillbridge.osd.mil/resources.htm]</em>
LOCATION:Webinar link will be sent upon registration.
UID:e.3433.4592
SEQUENCE:3
DTSTAMP:20260425T201842Z
URL:https://business.abilenechamber.com/events/details/business-navigator-webinar-building-workforce-with-the-military-4592
END:VEVENT

END:VCALENDAR
