BEGIN:VCALENDAR
VERSION:2.0
PRODID:-//ChamberMaster//Event Calendar 2.0//EN
METHOD:PUBLISH
X-PUBLISHED-TTL:P3D
REFRESH-INTERVAL:P3D
CALSCALE:GREGORIAN
BEGIN:VEVENT
DTSTART:20221027T230000Z
DTEND:20221028T010000Z
X-MICROSOFT-CDO-ALLDAYEVENT:FALSE
SUMMARY:Business Navigator: Virtual Financial Literacy Class (Pt. 1)
DESCRIPTION:The two-part course is designed for the start up business wanting to grasp the financial complexities of business ownership. It will be facilitated by Demetrius Earthly\, Executive Director of HERU Community Development Corporation.
X-ALT-DESC;FMTTYPE=text/html:The two-part course is designed for the start up business wanting to grasp the financial complexities of business ownership. It will be facilitated by Demetrius Earthly\, Executive Director of HERU Community Development Corporation.
LOCATION:Virtual/Zoom
UID:e.3433.4812
SEQUENCE:3
DTSTAMP:20260425T114445Z
URL:https://business.abilenechamber.com/events/details/business-navigator-virtual-financial-literacy-class-pt-1-4812
END:VEVENT

END:VCALENDAR
