BEGIN:VCALENDAR
VERSION:2.0
PRODID:-//ChamberMaster//Event Calendar 2.0//EN
METHOD:PUBLISH
X-PUBLISHED-TTL:P3D
REFRESH-INTERVAL:P3D
CALSCALE:GREGORIAN
BEGIN:VEVENT
DTSTART:20220511T170000Z
DTEND:20220511T180000Z
X-MICROSOFT-CDO-ALLDAYEVENT:FALSE
SUMMARY:Business Navigator: TMAC Lunch & Learn
DESCRIPTION:Partner with the West Texas Business Navigator program\, the Texas Manufacturers Assistance Center (TMAC) will provide information about their supervising training and grant funds to support your business in acquiring the necessary training to be a manufacturer in Texas. Other partners include the Development Corporation of Abilene\, TSTC and Workforce Solutions of West Central Texas.\n\n\n\nTMAC & Supervisor Development\n\nA brief introduction to challenges faced by area leaders and tips on how to overcome obstacles within leadership that lead to higher morale and employee retention.\n\n\n\nSkills Development Fund (SDF) and Other Grants\n\nThe Texas Workforce Commission has funding available to assist with training new and existing personnel. Learn more and start the application process.
X-ALT-DESC;FMTTYPE=text/html:<strong>Partner with the West Texas Business Navigator program\, the Texas Manufacturers Assistance Center (TMAC) will provide information about their supervising training and grant funds to support your business in acquiring the necessary training to be a manufacturer in Texas. Other partners include the Development Corporation of Abilene\, TSTC and Workforce Solutions of West Central Texas.</strong><br />\n<br />\n<u><strong>TMAC &amp\; Supervisor Development</strong></u><br />\nA brief introduction to challenges faced by area leaders and tips on how to overcome&nbsp\;obstacles within leadership that lead to higher morale and employee retention.<br />\n<br />\n<u><strong>Skills Development Fund (SDF) and Other Grants</strong></u><br />\nThe Texas Workforce Commission has funding available to assist with training new&nbsp\;and existing personnel. Learn more and start the application process.
LOCATION:Community Foundation of Abilene 850 N. 1st Street Abilene\, TX 79601
UID:e.3433.4593
SEQUENCE:3
DTSTAMP:20260425T201830Z
URL:https://business.abilenechamber.com/events/details/business-navigator-tmac-lunch-learn-4593
END:VEVENT

END:VCALENDAR
