BEGIN:VCALENDAR
VERSION:2.0
PRODID:-//ChamberMaster//Event Calendar 2.0//EN
METHOD:PUBLISH
X-PUBLISHED-TTL:P3D
REFRESH-INTERVAL:P3D
CALSCALE:GREGORIAN
BEGIN:VEVENT
DTSTART:20220614T140000Z
DTEND:20220614T170000Z
X-MICROSOFT-CDO-ALLDAYEVENT:FALSE
SUMMARY:Business Navigator: Small Business Resource Symposium
DESCRIPTION:The Small Business Resource Symposium is a chance for business owners to learn from professionals in marketing\, financing\, and other resources. The symposium is led by West Central Texas Council of Governments. Partners include Breckenridge Chamber\, H2M Holly Blackwell\, TMCN\, Workforce Solutions\, Small Business Development Center
X-ALT-DESC;FMTTYPE=text/html:The Small Business Resource Symposium is a chance for business owners to learn from professionals in marketing\, financing\, and other resources. The symposium is led by West Central Texas Council of Governments. Partners include Breckenridge Chamber\, H2M Holly Blackwell\, TMCN\, Workforce Solutions\, Small Business Development Center
LOCATION:307 N. Breckenridge Avenue Breckenridge\, Texas
UID:e.3433.4698
SEQUENCE:3
DTSTAMP:20260425T184435Z
URL:https://business.abilenechamber.com/events/details/business-navigator-small-business-resource-symposium-4698
END:VEVENT

END:VCALENDAR
