BEGIN:VCALENDAR
VERSION:2.0
PRODID:-//ChamberMaster//Event Calendar 2.0//EN
METHOD:PUBLISH
X-PUBLISHED-TTL:P3D
REFRESH-INTERVAL:P3D
CALSCALE:GREGORIAN
BEGIN:VEVENT
DTSTART:20221020T160000Z
DTEND:20221020T170000Z
X-MICROSOFT-CDO-ALLDAYEVENT:FALSE
SUMMARY:Business Navigator: Small Business Building an Online Presence
DESCRIPTION:Participants will learn how to use social media and websites to promote their business and drive sales.\n\nPresented by Holly Blackwell of H2M Solutions.
X-ALT-DESC;FMTTYPE=text/html:<span style="color:#1F497D\;">Participants will learn how to use social media and websites to promote their business and drive sales.</span><br />\nPresented by Holly Blackwell of H2M Solutions.&nbsp\;
LOCATION:Abilene Chamber of Commerce Conference Room 400 Pine Street\, Suite 500 Abilene\, TX
UID:e.3433.4806
SEQUENCE:3
DTSTAMP:20260425T114933Z
URL:https://business.abilenechamber.com/events/details/business-navigator-small-business-building-an-online-presence-4806
END:VEVENT

END:VCALENDAR
