BEGIN:VCALENDAR
VERSION:2.0
PRODID:-//ChamberMaster//Event Calendar 2.0//EN
METHOD:PUBLISH
X-PUBLISHED-TTL:P3D
REFRESH-INTERVAL:P3D
CALSCALE:GREGORIAN
BEGIN:VEVENT
DTSTART:20221027T160000Z
DTEND:20221027T170000Z
X-MICROSOFT-CDO-ALLDAYEVENT:FALSE
SUMMARY:Business Navigator: Mentoring Session feat. Gary Grubbs 10.27.22
DESCRIPTION:Mentoring can help entrepreneurs build relationships\, broaden skills and gain perspectives. Finding a mentor can be challenging. Through the Abilene Chamber's West Texas Business Navigator Program\, a new way to connect is through group mentoring. Spend one hour each month learning from a local subject matter expert about different facets of entrepreneurship.\n\n\n\nThis month's speaker is Gary Grubbs of Lawrence Hall Abilene.  He has been the Marketing/ Advertising Manager there for 23 years.  Not only is he dedicated to his career\, but he also dedicates himself to the community of Abilene.  Throughout his career\, Gary has volunteered his time and expertise to numerous local non-profits and civic organizations (too many to list here!).  This volunteerism has allowed Gary to expand his personal network and has paid dividends in his career.\n\n\n\nAre you looking to get plugged in but don't know where to start?  Come hear from Gary Grubbs about his experience and bring all your questions!
X-ALT-DESC;FMTTYPE=text/html:Mentoring can help entrepreneurs build relationships\, broaden skills and gain perspectives. Finding a mentor can be challenging. Through the Abilene Chamber&#39\;s West Texas Business Navigator Program\, a new way to connect is through group mentoring. Spend one hour each month learning from a local subject matter expert about different facets of entrepreneurship.<br />\n<br />\nThis month&#39\;s speaker is Gary Grubbs of Lawrence Hall Abilene.&nbsp\; He has been the Marketing/ Advertising Manager there for 23 years.&nbsp\; Not only is he dedicated to his career\, but he also dedicates himself to the community of Abilene.&nbsp\; Throughout his career\, Gary has volunteered his time and expertise to numerous local non-profits and civic organizations (too many to list here!).&nbsp\; This volunteerism has allowed Gary to expand his personal network and has paid dividends in his career.<br />\n<br />\nAre you looking to get plugged in but don&#39\;t know where to start?&nbsp\; Come hear from Gary Grubbs about his experience and bring all your questions!
LOCATION:The Domain Abilene 3274 South 27th Street Abilene\, TX 79605
UID:e.3433.4810
SEQUENCE:3
DTSTAMP:20260425T114628Z
URL:https://business.abilenechamber.com/events/details/business-navigator-mentoring-session-feat-gary-grubbs-10-27-22-4810
END:VEVENT

END:VCALENDAR
