BEGIN:VCALENDAR
VERSION:2.0
PRODID:-//ChamberMaster//Event Calendar 2.0//EN
METHOD:PUBLISH
X-PUBLISHED-TTL:P3D
REFRESH-INTERVAL:P3D
CALSCALE:GREGORIAN
BEGIN:VEVENT
DTSTART:20220609T163000Z
DTEND:20220609T180000Z
X-MICROSOFT-CDO-ALLDAYEVENT:FALSE
SUMMARY:Business Navigator: Marketing Lunch & Learn
DESCRIPTION:Comanche Chamber and West Central Texas Council of Governments are providing a free seminar on marketing and revolving loans. Holly Blackwell\, owner of H2M\, will give strategies to promote your business. This seminar is a part of the West Texas Business Navigator program\, a program of the Abilene Chamber of Commerce.
X-ALT-DESC;FMTTYPE=text/html:Comanche Chamber and West Central Texas Council of Governments are providing a free seminar on marketing and revolving loans. Holly Blackwell\, owner of H2M\, will give strategies to promote your business. This seminar is a part of the West Texas Business Navigator program\, a program of the Abilene Chamber of Commerce.
LOCATION:Commanche Chamber 304 S Austin Street Commanche\, TX
UID:e.3433.4700
SEQUENCE:3
DTSTAMP:20260425T172949Z
URL:https://business.abilenechamber.com/events/details/business-navigator-marketing-lunch-learn-4700
END:VEVENT

END:VCALENDAR
