BEGIN:VCALENDAR
VERSION:2.0
PRODID:-//ChamberMaster//Event Calendar 2.0//EN
METHOD:PUBLISH
X-PUBLISHED-TTL:P3D
REFRESH-INTERVAL:P3D
CALSCALE:GREGORIAN
BEGIN:VEVENT
DTSTART:20220405T230000Z
DTEND:20220406T010000Z
X-MICROSOFT-CDO-ALLDAYEVENT:FALSE
SUMMARY:Business Navigator: Financial Literacy for Business Owners
DESCRIPTION:The Heru Community Development Corporation will be providing a FREE financial literacy training program for those aspiring to be a business owner. This program takes a hands on experience in corporate structure\, personal credit\, corporate credit\, understanding investment tools. Upon Completion of this course each student will have a business entity (C Corporation\, S corporation\, Limited Liability Corporation)\, and a registered DUNS number. \n\n*This is an 8-session class:\n\nMarch 29\n\nApril 5\n\nApril 12\n\nApril 19\n\nApril 21\n\nMay 3\n\nMay 10\n\nMay 17\n\nMay 24\n\nThis training is supported by funding from the U.S. Small Business Administration.
X-ALT-DESC;FMTTYPE=text/html:<span style="font-family:calibri\,sans-serif\;"><span style="font-size:11.0pt\;">The <strong><u>Heru Community Development Corporation</u></strong>&nbsp\;will be providing a FREE financial literacy training program for those aspiring to be a business owner. This program takes a hands on experience in corporate structure\, personal credit\, corporate credit\, understanding investment tools. Upon Completion of this course each student will have a business entity (C Corporation\, S corporation\, Limited Liability Corporation)\, and a registered DUNS number.&nbsp\;<br />\n*This is an 8-session class:<br />\nMarch 29<br />\nApril 5<br />\nApril 12<br />\nApril 19<br />\nApril 21<br />\nMay 3<br />\nMay 10<br />\nMay 17<br />\nMay 24<br />\nThis training is supported by funding from the U.S. Small Business Administration.</span></span>
LOCATION:March 29 Main Library\, 202 Cedar St April 5 Mockingbird Branch Library\, 1326 N Mockingbird Ln April 12 Main Library\, 202 Cedar St April 19 Main Library\, 202 Cedar St April 21 Community Foundation of Abilene May 3 Main Library\, 202 Cedar St May 10 Main Library\, 202 Cedar St May 17 Main Library\, 202 Cedar St May 24 TBD
UID:e.3433.4580
SEQUENCE:3
DTSTAMP:20260425T202021Z
URL:https://business.abilenechamber.com/events/details/business-navigator-financial-literacy-for-business-owners-4580
END:VEVENT

END:VCALENDAR
