BEGIN:VCALENDAR
VERSION:2.0
PRODID:-//ChamberMaster//Event Calendar 2.0//EN
METHOD:PUBLISH
X-PUBLISHED-TTL:P3D
REFRESH-INTERVAL:P3D
CALSCALE:GREGORIAN
BEGIN:VEVENT
DTSTART:20230524T170000Z
DTEND:20230524T180000Z
X-MICROSOFT-CDO-ALLDAYEVENT:FALSE
SUMMARY:Business Navigator: Business Consultation & Mentoring
DESCRIPTION:Dr. Doug McIntyre\, former banker and a current small business owner\, will be on hand for an interactive Q & A regarding all your questions about starting\, expanding and operating a small business. In addition\, Dr. McIntyre will have a guest speaker - Wade Ashby - who will present on ChatGPT.\n\n\n\nWade Ashby is an Assistant Professor of Computer Science and Information Systems at Hardin-Simmons University. He holds a Master's degree from Georgia Tech in interactive intelligence and is pursuing a Ph.D. in Data Science with a focus on machine learning algorithms in higher education.\n\n\n\nBring your lunch and have your burning questions ready.
X-ALT-DESC;FMTTYPE=text/html:Dr. Doug McIntyre\, former banker and a current small business owner\, will be on hand for an interactive Q &amp\; A regarding all your questions about starting\, expanding and operating a small business. In addition\, Dr. McIntyre will have a guest speaker - Wade Ashby - who will present on ChatGPT.<br />\n<br />\nWade Ashby is an Assistant Professor of Computer Science and Information Systems at Hardin-Simmons University. He holds a Master&rsquo\;s degree from Georgia Tech in interactive intelligence and is pursuing a Ph.D. in Data Science with a focus on machine learning algorithms in higher education.<br />\n<br />\nBring your lunch and have your burning questions ready.
LOCATION:The Domain 3274 S 27th St. Abilene\, TX 79605
UID:e.3433.4975
SEQUENCE:3
DTSTAMP:20260424T000741Z
URL:https://business.abilenechamber.com/events/details/business-navigator-business-consultation-mentoring-4975
END:VEVENT

END:VCALENDAR
