BEGIN:VCALENDAR
VERSION:2.0
PRODID:-//ChamberMaster//Event Calendar 2.0//EN
METHOD:PUBLISH
X-PUBLISHED-TTL:P3D
REFRESH-INTERVAL:P3D
CALSCALE:GREGORIAN
BEGIN:VEVENT
DTSTART:20221026T160000Z
DTEND:20221026T170000Z
X-MICROSOFT-CDO-ALLDAYEVENT:FALSE
SUMMARY:Business Navigator: Acronym Soup & Government Contracting
DESCRIPTION:Are you interested in contracting your business with the government? Have you figured out the acronyms? This is the place to start to get a handle on the terms for government contracting.\n\nLed by Rich Lyles of the North Texas Procurement Technical Assistance Center
X-ALT-DESC;FMTTYPE=text/html:Are you interested in contracting your business with the government? Have you figured out the acronyms? This is the place to start to get a handle on the terms for government contracting.<br />\nLed by Rich Lyles of the North Texas Procurement Technical Assistance Center&nbsp\;&nbsp\;&nbsp\;&nbsp\;
LOCATION:Abilene Chamber of Commerce Conference Room 400 Pine Street\, Suite 500 Abilene\, TX
UID:e.3433.4807
SEQUENCE:3
DTSTAMP:20260425T114513Z
URL:https://business.abilenechamber.com/events/details/business-navigator-acronym-soup-government-contracting-4807
END:VEVENT

END:VCALENDAR
