BEGIN:VCALENDAR
VERSION:2.0
PRODID:-//ChamberMaster//Event Calendar 2.0//EN
METHOD:PUBLISH
X-PUBLISHED-TTL:P3D
REFRESH-INTERVAL:P3D
CALSCALE:GREGORIAN
BEGIN:VEVENT
DTSTART:20210811T213000Z
DTEND:20210811T230000Z
X-MICROSOFT-CDO-ALLDAYEVENT:FALSE
SUMMARY:Business Expo After Hours & Live Auction
DESCRIPTION:Unwind after a full day of networking at Business After Hours immediately following Business Expo sponsored by First Bank Texas\, Market Street and Reed Beverage. Our long-standing Live Auction sponsored by CBS Insurance will take place with small business packages you'll want to capitalize on!\n\n\n\nLive Auction packages.
X-ALT-DESC;FMTTYPE=text/html:<span style="color:black\;"><span style="font-family:arial\,sans-serif\;"><span style="font-size:10.5pt\;">Unwind after a full day of networking at Business After Hours immediately following Business Expo sponsored by First Bank Texas\, Market Street and Reed Beverage. Our long-standing Live Auction sponsored by CBS Insurance will take place with small business packages you&#39\;ll want to capitalize on!</span></span></span><br />\n<br />\n<strong><a href="https://chambermaster.blob.core.windows.net/userfiles/UserFiles/chambers/3433/File/auctionpackages.pdf"><span style="color:#FF0000\;"><span style="font-size:20px\;">Live Auction packages.</span></span></a></strong>
LOCATION:Abilene Convention Center
UID:e.3433.4449
SEQUENCE:3
DTSTAMP:20260423T234544Z
URL:https://business.abilenechamber.com/events/details/business-expo-after-hours-live-auction-4449
END:VEVENT

END:VCALENDAR
