BEGIN:VCALENDAR
VERSION:2.0
PRODID:-//ChamberMaster//Event Calendar 2.0//EN
METHOD:PUBLISH
X-PUBLISHED-TTL:P3D
REFRESH-INTERVAL:P3D
CALSCALE:GREGORIAN
BEGIN:VEVENT
DTSTART:20221029T150000Z
DTEND:20221030T210000Z
X-MICROSOFT-CDO-ALLDAYEVENT:FALSE
SUMMARY:Boo at the Zoo
DESCRIPTION:Abilene's favorite Halloween tradition is back\, welcoming families from all over the Big Country! This year Boo at the Zoo has GROWN to four days. Join us October 15th\, 22nd\, 29th or 30th. Your little ghosts and goblins will sink their fangs into goodies at community based Trick-or-Treat stations spread throughout the Zoo while also enjoying live entertainment   including the Bubble Lady   animal encounters\, costume dance parties\, and more throughout the day.
X-ALT-DESC;FMTTYPE=text/html:Abilene&rsquo\;s favorite Halloween tradition is back\, welcoming families from all over the Big Country! This year Boo at the Zoo has GROWN to four days. Join us October 15th\, 22nd\, 29th or 30th. Your little ghosts and goblins will sink their fangs into goodies at community based Trick-or-Treat stations spread throughout the Zoo while also enjoying live entertainment &ndash\; including the Bubble Lady &ndash\; animal encounters\, costume dance parties\, and more throughout the day.
LOCATION:Abilene Zoo
UID:e.3433.4828
SEQUENCE:3
DTSTAMP:20260425T114628Z
URL:https://business.abilenechamber.com/events/details/boo-at-the-zoo-10-29-2022-4828
END:VEVENT

END:VCALENDAR
