BEGIN:VCALENDAR
VERSION:2.0
PRODID:-//ChamberMaster//Event Calendar 2.0//EN
METHOD:PUBLISH
X-PUBLISHED-TTL:P3D
REFRESH-INTERVAL:P3D
CALSCALE:GREGORIAN
BEGIN:VEVENT
DTSTART:20210515T223000Z
DTEND:20210516T023000Z
X-MICROSOFT-CDO-ALLDAYEVENT:FALSE
SUMMARY:Blue Tie Affair-Gala benefiting Beyond Trafficking
DESCRIPTION:Join us for the 1st Annual Blue Tie Affair! GALA will be benefitting Beyond Trafficking\, a local non-profit in Abilene. Raising Awareness against human trafficking and leading survivors beyond the bonds. Proceeds from the Gala will help us build the "Amada House" a safe house to house survivors of human trafficking. Keynote Speakers: Conroy Kanter (President and Founder of KK Ranch Productions\, Academy Award Nominated Film Producer) and Sam Pollinzi (Pastor "Restored Hope Ministries" in Dallas\, Texas). Also featuring Kirk House Band and Silent Auction.
X-ALT-DESC;FMTTYPE=text/html:Join us for the 1st Annual Blue Tie Affair! GALA will be benefitting Beyond Trafficking\, a local non-profit in Abilene. Raising Awareness against human trafficking and leading survivors beyond the bonds. Proceeds from the Gala will help us build the &quot\;Amada House&quot\; a safe house to house survivors of human trafficking. Keynote Speakers: Conroy Kanter (President and Founder of KK Ranch Productions\, Academy Award Nominated Film Producer) and Sam Pollinzi (Pastor &quot\;Restored Hope Ministries&quot\; in Dallas\, Texas). Also featuring Kirk House Band and Silent Auction.
LOCATION:Grace Museum 102 Cypress Abilene\, Texas 79601
UID:e.3433.4340
SEQUENCE:3
DTSTAMP:20260423T200135Z
URL:https://business.abilenechamber.com/events/details/blue-tie-affair-gala-benefiting-beyond-trafficking-4340
END:VEVENT

END:VCALENDAR
