BEGIN:VCALENDAR
VERSION:2.0
PRODID:-//ChamberMaster//Event Calendar 2.0//EN
METHOD:PUBLISH
X-PUBLISHED-TTL:P3D
REFRESH-INTERVAL:P3D
CALSCALE:GREGORIAN
BEGIN:VEVENT
DTSTART:20210820T160000Z
DTEND:20210820T170000Z
X-MICROSOFT-CDO-ALLDAYEVENT:FALSE
SUMMARY:Big Tex Trailers / Truckfitters Ribbon Cutting
DESCRIPTION:Join us for a Ribbon Cutting Ceremony\, celebrating the Expansion of Big Tex Trailers/Truckfitters.
X-ALT-DESC;FMTTYPE=text/html:Join us for a Ribbon Cutting Ceremony\, celebrating the Expansion of Big Tex Trailers/Truckfitters.
LOCATION:1502 W Overland Trail Abilene\, Texas 79601
UID:e.3433.4436
SEQUENCE:3
DTSTAMP:20260423T234648Z
URL:https://business.abilenechamber.com/events/details/big-tex-trailers-truckfitters-ribbon-cutting-4436
END:VEVENT

END:VCALENDAR
