BEGIN:VCALENDAR
VERSION:2.0
PRODID:-//ChamberMaster//Event Calendar 2.0//EN
METHOD:PUBLISH
X-PUBLISHED-TTL:P3D
REFRESH-INTERVAL:P3D
CALSCALE:GREGORIAN
BEGIN:VEVENT
DTSTART:20210316T164500Z
DTEND:20210316T180000Z
X-MICROSOFT-CDO-ALLDAYEVENT:FALSE
SUMMARY:Big Country SHRM-March Meeting: Great Leaders are Grateful Leaders
DESCRIPTION:Please join us as at our monthly general meeting of Big Country Society for Human Resource Management. \n\nGreat Leaders are Grateful Leaders\n\nSpeaker: Bruce Waller\n\nLeadership is hard. It is magnified when we have a pandemic. Most would agree that we have experienced some of the most difficult times in our history this year   especially for HR and business leaders working with people around the difficulties of COVID-19 to social and economic challenges. However\, growth\, wisdom\, and gratitude can all surface during difficult times and great leaders stand up and stand out during these times because they understand the importance of connecting with people  as well as leaning into gratitude each and every day!
X-ALT-DESC;FMTTYPE=text/html:<p style="text-align: center\;"><span style="font-family:courier new">Please join us as at&nbsp\;our monthly general meeting of Big Country Society for Human Resource Management.&nbsp\;</span></p>\n\n<p style="text-align: center\;"><u><span style="background:white\;"><span style="color:#333333\;"><span style="font-family:lucida console\;"><span style="font-size:12.0pt\;">Great Leaders are Grateful Leaders</span></span></span></span></u><br />\n<span style="color:#333333\;"><span style="font-family:times new roman\,serif\;"><span style="font-size:15.0pt\;">Speaker:</span></span></span><strong><span style="font-weight:normal\;"><span style="color:#333333\;"><span style="font-family:calibri\,sans-serif\;"><span style="font-size:15.0pt\;">&nbsp\;Bruce Waller</span></span></span></span></strong><br />\n<strong><span style="font-weight:normal\;"><span style="color:#333333\;"><span style="font-family:segoe ui\,sans-serif\;"><span style="font-size:10.5pt\;">Leadership is hard. It is magnified when we have a pandemic. Most would agree that we have experienced some of the most difficult times in our history this year &ndash\; especially for HR and business leaders working with people around the difficulties of COVID-19 to social and economic challenges. However\, growth\, wisdom\, and gratitude can all surface during difficult times and great leaders stand up and stand out during these times because they understand the importance of connecting with people&hellip\; as well as leaning into gratitude each and every day!</span></span></span></span></strong><br />\n<br />\n&nbsp\;</p>\n\n<p>&nbsp\;</p>\n
LOCATION:Abilene Country Club
UID:e.3433.3961
SEQUENCE:3
DTSTAMP:20260423T173417Z
URL:https://business.abilenechamber.com/events/details/big-country-shrm-march-meeting-great-leaders-are-grateful-leaders-3961
END:VEVENT

END:VCALENDAR
