BEGIN:VCALENDAR
VERSION:2.0
PRODID:-//ChamberMaster//Event Calendar 2.0//EN
METHOD:PUBLISH
X-PUBLISHED-TTL:P3D
REFRESH-INTERVAL:P3D
CALSCALE:GREGORIAN
BEGIN:VEVENT
DTSTART:20210817T170000Z
DTEND:20210817T180000Z
X-MICROSOFT-CDO-ALLDAYEVENT:FALSE
SUMMARY:Big Country SHRM-August Meeting Where's the Talent?!
DESCRIPTION:Please join us for our August monthly general meeting of Big Country Society for Human Resource Management. \n\n"Where's the Talent?!"\n\nAs the Texas workforce continues to re-open\,  recruiting has re-emerged as the crucial HR issue of the day. Businesses of all sizes and industries are struggling to find the talent they need. The war for talent is likely back to stay for a while.\n\nJoin Big Country SHRM as we discuss the challenges that we are facing and best practices being used in our workplaces today.
X-ALT-DESC;FMTTYPE=text/html:<p>Please join us for our August monthly general meeting of Big Country Society for Human Resource Management.&nbsp\;</p>\n\n<p><strong><u>&ldquo\;Where&#39\;s the Talent?!&rdquo\;</u></strong></p>\n\n<p>As the Texas workforce continues to re-open\,&nbsp\; recruiting has re-emerged as the crucial HR issue of the day. Businesses of all sizes and industries are struggling to find the talent they need. The war for talent is likely back to stay for a while.</p>\n\n<p>Join Big Country SHRM as we discuss the challenges that we are facing and best practices being used in our workplaces today.&nbsp\;</p>\n
LOCATION:
UID:e.3433.4427
SEQUENCE:3
DTSTAMP:20260423T234936Z
URL:https://business.abilenechamber.com/events/details/big-country-shrm-august-meeting-where-s-the-talent-4427
END:VEVENT

END:VCALENDAR
