BEGIN:VCALENDAR
VERSION:2.0
PRODID:-//ChamberMaster//Event Calendar 2.0//EN
METHOD:PUBLISH
X-PUBLISHED-TTL:P3D
REFRESH-INTERVAL:P3D
CALSCALE:GREGORIAN
BEGIN:VEVENT
DTSTART:20190917T150000Z
DTEND:20190917T180000Z
X-MICROSOFT-CDO-ALLDAYEVENT:FALSE
SUMMARY:BCSHRM 2019 Legal Workshop
DESCRIPTION:Our presenter will be Dustin Paschal of Simon | Paschal PLLC Dallas\, TX Dustin will be presenting a Legal Update for 2019\, including sessions on legal issues\, toxic workplaces\, and bullying. Lunch will be offered.
X-ALT-DESC;FMTTYPE=text/html:Our presenter will be Dustin Paschal of Simon | Paschal PLLC Dallas\, TX Dustin will be presenting a Legal Update for 2019\, including sessions on legal issues\, toxic workplaces\, and bullying. Lunch will be offered.
LOCATION:Abilene Country Club
UID:e.3433.3726
SEQUENCE:3
DTSTAMP:20260423T173009Z
URL:https://business.abilenechamber.com/events/details/bcshrm-2019-legal-workshop-3726
END:VEVENT

END:VCALENDAR
