BEGIN:VCALENDAR
VERSION:2.0
PRODID:-//ChamberMaster//Event Calendar 2.0//EN
METHOD:PUBLISH
X-PUBLISHED-TTL:P3D
REFRESH-INTERVAL:P3D
CALSCALE:GREGORIAN
BEGIN:VEVENT
DTSTART:20190928T223000Z
DTEND:20190929T023000Z
X-MICROSOFT-CDO-ALLDAYEVENT:FALSE
SUMMARY:An Evening Under the Stars
DESCRIPTION:Enjoy an evening outdoors listening and dancing to music from: - House Band #2 - Morgan Reatherford - Kirk House All proceeds go to benefit Camp Able of Buffalo Gap\, a nonprofit that provides equine therapy to people with special needs using horses that have been given sanctuary from difficult circumstances. Food and non-alcoholic beverages available for purchase. Coolers allowed with a $10 cooler charge - no glass containers allowed. Sponsorships for the event to support Camp Able are available. Contact Lota at 325-232-3410 for details.
X-ALT-DESC;FMTTYPE=text/html:Enjoy an evening outdoors listening and dancing to music from: - House Band #2 - Morgan Reatherford - Kirk House All proceeds go to benefit Camp Able of Buffalo Gap\, a nonprofit that provides equine therapy to people with special needs using horses that have been given sanctuary from difficult circumstances. Food and non-alcoholic beverages available for purchase. Coolers allowed with a $10 cooler charge - no glass containers allowed. Sponsorships for the event to support Camp Able are available. Contact Lota at 325-232-3410 for details.
LOCATION:1302 Pecan Street\, Buffalo Gap\, TX
UID:e.3433.3772
SEQUENCE:3
DTSTAMP:20260423T184058Z
URL:https://business.abilenechamber.com/events/details/an-evening-under-the-stars-3772
END:VEVENT

END:VCALENDAR
