BEGIN:VCALENDAR
VERSION:2.0
PRODID:-//ChamberMaster//Event Calendar 2.0//EN
METHOD:PUBLISH
X-PUBLISHED-TTL:P3D
REFRESH-INTERVAL:P3D
CALSCALE:GREGORIAN
BEGIN:VEVENT
DTSTART:20220423T130000Z
DTEND:20220423T170000Z
X-MICROSOFT-CDO-ALLDAYEVENT:FALSE
SUMMARY:All Kind Animal Initiative's Free Pet Vaccination Clinic 04.23.22
DESCRIPTION:On Saturday\, April 23rd from 8am to 12pm at the Swenson House\, All Kind will offer FREE DAPPv vaccines for dogs and FREE HCP vaccines for cats. Abilene Animal Services will provide FREE microchips. Frontier Vet Express will offer low-cost rabies vaccines for $20. Black Collar K9 Academy will provide tips and information on dog training. \n\n\n\n**Pre-registration for this event is strongly encouraged** \n\n\n\nThis clinic is being held in partnership with our friends at the Swenson House\, Frontier Vet Express\, Abilene Animal Services\, Ruff & Tough Mobile Grooming\, Black Collar K9 Academy\, and PetcoLove. \n\n\n\nVaccines are made available through PetcoLove's new national vaccination initiative which is to provide 1 million pet vaccines to its existing animal welfare partners\, including All Kind Animal Initiative\, for family pets in need.
X-ALT-DESC;FMTTYPE=text/html:On Saturday\, April 23rd from 8am to 12pm at the Swenson House\, All Kind will offer FREE DAPPv vaccines for dogs and FREE HCP vaccines for cats. Abilene Animal Services will provide FREE microchips. Frontier Vet Express will offer low-cost rabies vaccines for $20. Black Collar K9 Academy will provide tips and information on dog training.&nbsp\;<br />\n<br />\n**Pre-registration for this event is strongly encouraged**&nbsp\;<br />\n<br />\nThis clinic is being held in partnership with our friends at the Swenson House\, Frontier Vet Express\, Abilene Animal Services\, Ruff &amp\; Tough Mobile Grooming\, Black Collar K9 Academy\, and PetcoLove.&nbsp\;<br />\n<br />\nVaccines are made available through PetcoLove&#39\;s new national vaccination initiative which is to provide 1 million pet vaccines to its existing animal welfare partners\, including All Kind Animal Initiative\, for family pets in need.&nbsp\;
LOCATION:Swenson House 1726 Swenson Street Abilene\, TX 79603
UID:e.3433.4662
SEQUENCE:3
DTSTAMP:20260425T215510Z
URL:https://business.abilenechamber.com/events/details/all-kind-animal-initiative-s-free-pet-vaccination-clinic-04-23-22-4662
END:VEVENT

END:VCALENDAR
