BEGIN:VCALENDAR
VERSION:2.0
PRODID:-//ChamberMaster//Event Calendar 2.0//EN
METHOD:PUBLISH
X-PUBLISHED-TTL:P3D
REFRESH-INTERVAL:P3D
CALSCALE:GREGORIAN
BEGIN:VEVENT
DTSTART:20220525T133000Z
DTEND:20220525T163000Z
X-MICROSOFT-CDO-ALLDAYEVENT:FALSE
SUMMARY:AIF: Broadband Funding Discussion
DESCRIPTION:Broadband issues are real in Texas and solutions to connectivity are needed. With pending funding for broadband\, this roundtable discussion will help illuminate the current status. Participants will share needs and solutions to identify partnerships to keep homes and businesses connected for education and remote work in Taylor\, Jones & Callahan counties.
X-ALT-DESC;FMTTYPE=text/html:Broadband issues are real in Texas and solutions to connectivity are needed. With pending funding for broadband\, this roundtable discussion will help illuminate the current status. Participants will share needs and solutions to identify partnerships to keep homes and businesses connected for education and remote work in Taylor\, Jones &amp\; Callahan counties.&nbsp\;
LOCATION:Community Foundation of Abilene 850 North 1st Street Abilene\, TX
UID:e.3433.4682
SEQUENCE:3
DTSTAMP:20260425T201829Z
URL:https://business.abilenechamber.com/events/details/aif-broadband-funding-discussion-4682
END:VEVENT

END:VCALENDAR
