BEGIN:VCALENDAR
VERSION:2.0
PRODID:-//ChamberMaster//Event Calendar 2.0//EN
METHOD:PUBLISH
X-PUBLISHED-TTL:P3D
REFRESH-INTERVAL:P3D
CALSCALE:GREGORIAN
BEGIN:VEVENT
DTSTART:20250228T170000Z
DTEND:20250228T190000Z
X-MICROSOFT-CDO-ALLDAYEVENT:FALSE
SUMMARY:Agriculture Legacy Luncheon Feb. 28\, 2025 - Presented by Taylor Telecom
DESCRIPTION:Sponsored by Taylor Telecom\, this year's luncheon will recognize those who help feed the world. \n\nHelp us honor Hunter and Alexis Williams\, this year's Agriculture Family of the Year and learn more about agriculture's impact culturally and economically to our Big Country. We will also have a featured guest speaker\, Carl Ray Polk Jr\, President of the Texas and Southwestern Cattle Raisers Association. \n\n\n\n\n\nPlease note: This event is being photographed and/or videotaped and your image may be used in connection with the advertising and promotion of the Abilene Chamber of Commerce.
X-ALT-DESC;FMTTYPE=text/html:<div class="kvgmc6g5 cxmmr5t8 oygrvhab hcukyx3x c1et5uql" style="overflow-wrap: break-word\; margin: 0px\; font-family: &quot\;Segoe UI Historic&quot\;\, &quot\;Segoe UI&quot\;\, Helvetica\, Arial\, sans-serif\; color: rgb(5\, 5\, 5)\; font-size: 15px\;">\n<p><span style="font-size:14px\;"><span style="font-family:arial\;"><span style="color: rgb(5\, 5\, 5)\;">Sponsored by Taylor Telecom\, this year&rsquo\;s luncheon will recognize those who&nbsp\;help feed the world.&nbsp\;</span><br />\n<span data-olk-copy-source="MessageBody" style="color: rgb(33\, 33\, 33)\;">Help us honor Hunter and Alexis Williams\, this year&#39\;s Agriculture Family of the Year and learn more about agriculture&rsquo\;s impact culturally and economically to our Big Country.&nbsp\;We will also have a featured guest speaker\, Carl Ray Polk Jr\, President of the Texas and Southwestern Cattle Raisers Association.&nbsp\;</span></span><!--EndFragment--></span></p>\n</div>\n<br />\n<br />\n<span style="background:white\;"><span style="color:#333333\;"><span style="font-family:arial\,sans-serif\;"><span style="font-size:7.0pt\;">Please note: This event is being photographed and/or videotaped and your image may be used in connection with the advertising and promotion of the Abilene Chamber of Commerce.</span></span></span></span><br />\n<br />\n&nbsp\;
LOCATION:Capital Farm Credit Display Building - Taylor County Expo Center
UID:e.3433.5466
SEQUENCE:3
DTSTAMP:20260423T133204Z
URL:https://business.abilenechamber.com/events/details/agriculture-legacy-luncheon-feb-28-2025-presented-by-taylor-telecom-5466
END:VEVENT

END:VCALENDAR
