BEGIN:VCALENDAR
VERSION:2.0
PRODID:-//ChamberMaster//Event Calendar 2.0//EN
METHOD:PUBLISH
X-PUBLISHED-TTL:P3D
REFRESH-INTERVAL:P3D
CALSCALE:GREGORIAN
BEGIN:VEVENT
DTSTART:20220616T170000Z
DTEND:20220616T180000Z
X-MICROSOFT-CDO-ALLDAYEVENT:FALSE
SUMMARY:Accounting Method Developments
DESCRIPTION:Reporting income and expenses in the proper period can generate valuable cash savings and help you avoid potential conflict with the IRS. The IRS has released new guidance that provides significant accounting method opportunities for taxpayers. Join us to learn more about recent developments in the area of accounting methods and periods\, and learn what you should be doing to assure you are making the most of your revenue and expense recognition methods. Learning Objectives: Discuss current trends\, developments\, guidance and opportunities in the field of accounting methods. Examine the processes and requirements for adopting and changing accounting methods. Define the necessary actions to comply with recent tax legislation and take advantage of available opportunities. Presenter: Andrea Mouw\, JD\, CPA\, Partner-in-Charge of Accounting Methods and Periods | Eide Bailly Andrea has more than 13 years of experience providing tax consulting and advisory services to a wide range of clients. Her primary area of focus is accounting methods including income and expense recognition\, inventory\, capitalization and cost recovery. She also assists clients in filing accounting method change requests (Form 3115) and advises on a number of issues related to the TCJA including section 163(j)\, section 168(k) and small taxpayer accounting method opportunities as well as issues related to virtual currency and debt instruments and modifications. CPE Information CPE Credit: 1 Field of Study: Accounting Level of Knowledge: Basic Delivery Method: Group-Internet Based Additional Information: This is a Group-Internet Based Webinar. No prerequisites or advanced preparation required. For information regarding a complaint and/or program cancellation policies\, please contact Amy DeGeorge.
X-ALT-DESC;FMTTYPE=text/html:Reporting income and expenses in the proper period can generate valuable cash savings and help you avoid potential conflict with the IRS. The IRS has released new guidance that provides significant accounting method opportunities for taxpayers. Join us to learn more about recent developments in the area of accounting methods and periods\, and learn what you should be doing to assure you are making the most of your revenue and expense recognition methods. Learning Objectives: Discuss current trends\, developments\, guidance and opportunities in the field of accounting methods. Examine the processes and requirements for adopting and changing accounting methods. Define the necessary actions to comply with recent tax legislation and take advantage of available opportunities. Presenter: Andrea Mouw\, JD\, CPA\, Partner-in-Charge of Accounting Methods and Periods | Eide Bailly Andrea has more than 13 years of experience providing tax consulting and advisory services to a wide range of clients. Her primary area of focus is accounting methods including income and expense recognition\, inventory\, capitalization and cost recovery. She also assists clients in filing accounting method change requests (Form 3115) and advises on a number of issues related to the TCJA including section 163(j)\, section 168(k) and small taxpayer accounting method opportunities as well as issues related to virtual currency and debt instruments and modifications. CPE Information CPE Credit: 1 Field of Study: Accounting Level of Knowledge: Basic Delivery Method: Group-Internet Based Additional Information: This is a Group-Internet Based Webinar. No prerequisites or advanced preparation required. For information regarding a complaint and/or program cancellation policies\, please contact Amy DeGeorge.
LOCATION:Online webinar
UID:e.3433.4687
SEQUENCE:3
DTSTAMP:20260425T171628Z
URL:https://business.abilenechamber.com/events/details/accounting-method-developments-06-16-2022-4687
END:VEVENT

END:VCALENDAR
