BEGIN:VCALENDAR
VERSION:2.0
PRODID:-//ChamberMaster//Event Calendar 2.0//EN
METHOD:PUBLISH
X-PUBLISHED-TTL:P3D
REFRESH-INTERVAL:P3D
CALSCALE:GREGORIAN
BEGIN:VEVENT
DTSTART;VALUE=DATE:20210504
DTEND;VALUE=DATE:20210506
TRANSP:TRANSPARENT
X-MICROSOFT-CDO-ALLDAYEVENT:TRUE
SUMMARY:Abilene Gives 2021
DESCRIPTION:#4theCommunity! Together\, we can make a difference for local nonprofits in our area. Join us May 4 for Abilene Gives\, a 24-hour day of online giving to raise money for nonprofits serving Abilene and the surrounding area. The giving happens at abilenegives.org. DONATE: https://www.abilenegives.org/
X-ALT-DESC;FMTTYPE=text/html:#4theCommunity! Together\, we can make a difference for local nonprofits in our area. Join us May 4 for Abilene Gives\, a 24-hour day of online giving to raise money for nonprofits serving Abilene and the surrounding area. The giving happens at abilenegives.org. DONATE: https://www.abilenegives.org/
LOCATION:
UID:e.3433.4298
SEQUENCE:3
DTSTAMP:20260423T200048Z
URL:https://business.abilenechamber.com/events/details/abilene-gives-2021-4298
END:VEVENT

END:VCALENDAR
