BEGIN:VCALENDAR
VERSION:2.0
PRODID:-//ChamberMaster//Event Calendar 2.0//EN
METHOD:PUBLISH
X-PUBLISHED-TTL:P3D
REFRESH-INTERVAL:P3D
CALSCALE:GREGORIAN
BEGIN:VEVENT
DTSTART:20220414T230000Z
DTEND:20220415T020000Z
X-MICROSOFT-CDO-ALLDAYEVENT:FALSE
SUMMARY:7th annual Abilene Young Professional Membership Bash
DESCRIPTION:"Go! Galactic!" with AYP! Remember that one time we tried to throw a rad 90's themed AYP Bash? We were delayed a year or two (thanks pandemic) but we're BACK! "Scrub" off your 90's gear and come celebrate seven years of professional development\, community outreach and connection-making. It will be all that and a bag of chips\, like\, totally!\n\n\n\nBrought to you by Reed Beverage\, First Financial Bank\, Condley and Company\, LLP\, Eide Bailly\, Hendrick Health\, FDLIC        \n\n\n\nPlease note: This event is being photographed and/or videotaped and your image may be used in connection with the advertising and promotion of the Abilene Chamber of Commerce.
X-ALT-DESC;FMTTYPE=text/html:<span style="font-size:14px\;"><span style="font-family:arial\;"><span style="color: rgb(28\, 30\, 33)\; white-space: pre-wrap\;">&quot\;Go! Galactic!&quot\; with AYP! </span></span></span><span style="color: rgba(0\, 0\, 0\, 0.85)\; font-family: Roboto\, Arial\, sans-serif\; font-size: 14px\; white-space: pre-wrap\;">Remember that one time we tried to throw a rad 90&#39\;s themed AYP Bash? We were delayed a year or two (thanks pandemic) but we&#39\;re BACK! &quot\;Scrub&quot\; off your 90&#39\;s gear and come celebrate seven years of professional development\, community outreach and connection-making. It will be all that and a bag of chips\, like\, totally!</span><br />\n<br />\n<span style="font-size:14px\;"><span style="font-family:arial\;">Brought to you by Reed Beverage\, First Financial Bank\, Condley and Company\, LLP\, Eide Bailly\, Hendrick Health\, FDLIC&nbsp\; &nbsp\; &nbsp\; &nbsp\;&nbsp\;</span></span><br />\n<br />\n<span style="font-size:10px\;"><span style="color: rgb(28\, 30\, 33)\; font-family: Helvetica\, Arial\, sans-serif\; white-space: pre-wrap\;">Please note: This event is being photographed and/or videotaped and your image may be used in connection with the advertising and promotion of the Abilene Chamber of Commerce.</span></span>
LOCATION:The Grace Garage 102 Cypress St
UID:e.3433.4646
SEQUENCE:3
DTSTAMP:20260425T214518Z
URL:https://business.abilenechamber.com/events/details/7th-annual-abilene-young-professional-membership-bash-4646
END:VEVENT

END:VCALENDAR
