BEGIN:VCALENDAR
VERSION:2.0
PRODID:-//ChamberMaster//Event Calendar 2.0//EN
METHOD:PUBLISH
X-PUBLISHED-TTL:P3D
REFRESH-INTERVAL:P3D
CALSCALE:GREGORIAN
BEGIN:VEVENT
DTSTART:20220504T130000Z
DTEND:20220504T140000Z
X-MICROSOFT-CDO-ALLDAYEVENT:FALSE
SUMMARY:5.4.22 Wake Up Wednesday Sponsored by Northwest Texas Business Resource Center\, Star Dodge\, and First Financial Bank
DESCRIPTION:Please join us for our a captivating Wake Up Wednesday! Sponsored by Northwest Texas Business Resource Center\, Star Dodge\, and First Financial. This monthly Chamber networking event is open to our sponsor's employees and guests\, Chamber members and prospective members. This event features a short sponsor presentation\, food/beverages\, update on Chamber activities and door prizes.\n\n\n\nPlease note: This event is being photographed and/or videotaped and your image may be used in connection with the advertising and promotion of the Abilene Chamber of Commerce.
X-ALT-DESC;FMTTYPE=text/html:<span style="background:white\;"><span style="color:#333333\;"><span style="font-family:arial\,sans-serif\;"><span style="font-size:10.0pt\;">Please join us for our a captivating Wake Up Wednesday! Sponsored by Northwest Texas Business Resource Center\, Star Dodge\, and First Financial. This monthly Chamber networking event is open to our sponsor&#39\;s employees and guests\, Chamber members and prospective members. This event features a short sponsor presentation\, food/beverages\, update on Chamber activities and door prizes.</span></span></span></span><br />\n<br />\n<span style="color:#333333\;"><span style="font-family:arial\,sans-serif\;"><span style="font-size:7.0pt\;">Please note: This event is being photographed and/or videotaped and your image may be used in connection with the advertising and promotion of the Abilene Chamber of Commerce.</span></span></span>
LOCATION:Abilene Woman's Club 3425 S 14th St. Abilene\, TX 79605
UID:e.3433.4643
SEQUENCE:3
DTSTAMP:20260425T185200Z
URL:https://business.abilenechamber.com/events/details/5-4-22-wake-up-wednesday-sponsored-by-northwest-texas-business-resource-center-and-first-financial-bank-4643
END:VEVENT

END:VCALENDAR
