BEGIN:VCALENDAR
VERSION:2.0
PRODID:-//ChamberMaster//Event Calendar 2.0//EN
METHOD:PUBLISH
X-PUBLISHED-TTL:P3D
REFRESH-INTERVAL:P3D
CALSCALE:GREGORIAN
BEGIN:VEVENT
DTSTART:20191004T143000Z
DTEND:20191004T153000Z
X-MICROSOFT-CDO-ALLDAYEVENT:FALSE
SUMMARY:40 Year Anniversary - KTAB-TV
DESCRIPTION:
X-ALT-DESC;FMTTYPE=text/html:
LOCATION:4510 South 14th Street Abilene\, TX 79605
UID:e.3433.3767
SEQUENCE:3
DTSTAMP:20260423T160527Z
URL:https://business.abilenechamber.com/events/details/40-year-anniversary-ktab-tv-3767
END:VEVENT

END:VCALENDAR
