BEGIN:VCALENDAR
VERSION:2.0
PRODID:-//ChamberMaster//Event Calendar 2.0//EN
METHOD:PUBLISH
X-PUBLISHED-TTL:P3D
REFRESH-INTERVAL:P3D
CALSCALE:GREGORIAN
BEGIN:VEVENT
DTSTART;VALUE=DATE:20220325
DTEND;VALUE=DATE:20220326
TRANSP:TRANSPARENT
X-MICROSOFT-CDO-ALLDAYEVENT:TRUE
SUMMARY:325 Day
DESCRIPTION:On 3/25 let's support local vendor\, give back\, have fun\, and celebrate doing business within the 325!\n\n\n\nJoin with us to celebrate 325 day! On March 25\, 2022\, we're encouraging everyone to show their pride in 325 by supporting local vendors. So get out and about\; shop local\; and most importantly\, show some love to the 325!\n\nFor more information\, go to www.325day.com\n\nCALLING ALL LOCAL BUSINESSES\n\nIf you are a local business and want to participate\, go to www.325day.com to register!
X-ALT-DESC;FMTTYPE=text/html:<div class="kvgmc6g5 cxmmr5t8 oygrvhab hcukyx3x c1et5uql" style="overflow-wrap: break-word\; margin: 0px\; font-family: &quot\;Segoe UI Historic&quot\;\, &quot\;Segoe UI&quot\;\, Helvetica\, Arial\, sans-serif\; color: rgb(5\, 5\, 5)\; font-size: 15px\;">On 3/25 let&#39\;s support local vendor\, give back\, have fun\, and celebrate doing business within the 325!<br />\n<br />\nJoin with us to celebrate 325 day! On March 25\, 2022\, we&#39\;re encouraging everyone to show their pride in 325 by supporting local vendors. So get out and about\; shop local\; and most importantly\, show some love to the 325!</div>\n\n<div class="cxmmr5t8 oygrvhab hcukyx3x c1et5uql o9v6fnle" style="overflow-wrap: break-word\; margin: 0.5em 0px 0px\; font-family: &quot\;Segoe UI Historic&quot\;\, &quot\;Segoe UI&quot\;\, Helvetica\, Arial\, sans-serif\; color: rgb(5\, 5\, 5)\; font-size: 15px\;">For more information\, go to&nbsp\;<a class="oajrlxb2 g5ia77u1 qu0x051f esr5mh6w e9989ue4 r7d6kgcz rq0escxv nhd2j8a9 nc684nl6 p7hjln8o kvgmc6g5 cxmmr5t8 oygrvhab hcukyx3x jb3vyjys rz4wbd8a qt6c0cv9 a8nywdso i1ao9s8h esuyzwwr f1sip0of lzcic4wl gpro0wi8 py34i1dx" href="https://l.facebook.com/l.php?u=http%3A%2F%2Fwww.325day.com%2F%3Ffbclid%3DIwAR38EuZT0sgMVVx9wtu6G-ckchQr8FzI9v--Twrs96GcPGPV_jMMgI76yug&amp\;h=AT2zb0ZqRQClu49cJtZ_FA-qeMxElzq1Qn_cXQKkXZTtMdBNRRq3vzGCWRyQnubK6-gDN9SWYWRLk9KDyfQpl_Z3QVMhEEIN8gmfYsDMvWVwD0Iaga5YmAHcmMuY16eOkWQZ&amp\;__tn__=q&amp\;c[0]=AT0003WvHE00F2BJZg3aeTtEPxHdSt0XC0aKaOET9HY6UG-Jk6UbvndnBzJdz0U1gw9KbBV7Wlj67r8bxWUjZyRNk8sZGz6-9uOYA_40COITc87cI9xY781LcK33zjnLgPEPR7iJFZZbuoQ0x6wMPUZJ2lewO_miJJ9k4-4oSlPRSI3f" rel="nofollow noopener" role="link" style="color: var(--blue-link)\; cursor: pointer\; text-decoration-line: none\; outline: none\; list-style: none\; border-width: 0px\; border-style: initial\; border-color: initial\; padding: 0px\; margin: 0px\; touch-action: manipulation\; background-color: transparent\; text-align: inherit\; display: inline\; -webkit-tap-highlight-color: transparent\; box-sizing: border-box\; font-family: inherit\;" tabindex="0" target="_blank">www.325day.com</a></div>\n\n<div class="cxmmr5t8 oygrvhab hcukyx3x c1et5uql o9v6fnle" style="overflow-wrap: break-word\; margin: 0.5em 0px 0px\; font-family: &quot\;Segoe UI Historic&quot\;\, &quot\;Segoe UI&quot\;\, Helvetica\, Arial\, sans-serif\; color: rgb(5\, 5\, 5)\; font-size: 15px\;"><strong>CALLING ALL LOCAL BUSINESSES</strong><br />\nIf you are a local business and want to participate\, go to&nbsp\;<a class="oajrlxb2 g5ia77u1 qu0x051f esr5mh6w e9989ue4 r7d6kgcz rq0escxv nhd2j8a9 nc684nl6 p7hjln8o kvgmc6g5 cxmmr5t8 oygrvhab hcukyx3x jb3vyjys rz4wbd8a qt6c0cv9 a8nywdso i1ao9s8h esuyzwwr f1sip0of lzcic4wl gpro0wi8 py34i1dx" href="https://l.facebook.com/l.php?u=http%3A%2F%2Fwww.325day.com%2F%3Ffbclid%3DIwAR0T17M3jsJkBa-9_2M2vrVL7D62SDNRtdGoa8cxC9BUhYCVdqenrRewrT4&amp\;h=AT2zb0ZqRQClu49cJtZ_FA-qeMxElzq1Qn_cXQKkXZTtMdBNRRq3vzGCWRyQnubK6-gDN9SWYWRLk9KDyfQpl_Z3QVMhEEIN8gmfYsDMvWVwD0Iaga5YmAHcmMuY16eOkWQZ&amp\;__tn__=q&amp\;c[0]=AT0003WvHE00F2BJZg3aeTtEPxHdSt0XC0aKaOET9HY6UG-Jk6UbvndnBzJdz0U1gw9KbBV7Wlj67r8bxWUjZyRNk8sZGz6-9uOYA_40COITc87cI9xY781LcK33zjnLgPEPR7iJFZZbuoQ0x6wMPUZJ2lewO_miJJ9k4-4oSlPRSI3f" rel="nofollow noopener" role="link" style="color: var(--blue-link)\; cursor: pointer\; text-decoration-line: none\; outline: none\; list-style: none\; border-width: 0px\; border-style: initial\; border-color: initial\; padding: 0px\; margin: 0px\; touch-action: manipulation\; background-color: transparent\; text-align: inherit\; display: inline\; -webkit-tap-highlight-color: transparent\; box-sizing: border-box\; font-family: inherit\;" tabindex="0" target="_blank">www.325day.com</a>&nbsp\;to register!</div>\n
LOCATION:
UID:e.3433.4591
SEQUENCE:3
DTSTAMP:20260425T214247Z
URL:https://business.abilenechamber.com/events/details/325-day-4591
END:VEVENT

END:VCALENDAR
