BEGIN:VCALENDAR
VERSION:2.0
PRODID:-//ChamberMaster//Event Calendar 2.0//EN
METHOD:PUBLISH
X-PUBLISHED-TTL:P3D
REFRESH-INTERVAL:P3D
CALSCALE:GREGORIAN
BEGIN:VEVENT
DTSTART:20190924T200000Z
DTEND:20190924T230000Z
X-MICROSOFT-CDO-ALLDAYEVENT:FALSE
SUMMARY:30 Year Anniversary - Batts Communications LP
DESCRIPTION:
X-ALT-DESC;FMTTYPE=text/html:
LOCATION:850 North 1st Street Abilene\, Texas 79601
UID:e.3433.3757
SEQUENCE:3
DTSTAMP:20260423T183356Z
URL:https://business.abilenechamber.com/events/details/30-year-anniversary-batts-communications-lp-3757
END:VEVENT

END:VCALENDAR
