BEGIN:VCALENDAR
VERSION:2.0
PRODID:-//ChamberMaster//Event Calendar 2.0//EN
METHOD:PUBLISH
X-PUBLISHED-TTL:P3D
REFRESH-INTERVAL:P3D
CALSCALE:GREGORIAN
BEGIN:VEVENT
DTSTART:20220908T210000Z
DTEND:20220908T220000Z
X-MICROSOFT-CDO-ALLDAYEVENT:FALSE
SUMMARY:30 Year Anniversary - 3rd Street Printing & Sign Co.
DESCRIPTION:
X-ALT-DESC;FMTTYPE=text/html:
LOCATION:1230 N. 3rd Street Abilene\, Texas 79601
UID:e.3433.4730
SEQUENCE:3
DTSTAMP:20260425T143331Z
URL:https://business.abilenechamber.com/events/details/30-year-anniversary-3rd-street-printing-sign-co-4730
END:VEVENT

END:VCALENDAR
