BEGIN:VCALENDAR
VERSION:2.0
PRODID:-//ChamberMaster//Event Calendar 2.0//EN
METHOD:PUBLISH
X-PUBLISHED-TTL:P3D
REFRESH-INTERVAL:P3D
CALSCALE:GREGORIAN
BEGIN:VEVENT
DTSTART:20221024T133000Z
DTEND:20221024T200000Z
X-MICROSOFT-CDO-ALLDAYEVENT:FALSE
SUMMARY:2022 Busted Putter Golf Tournament
DESCRIPTION:2022 Busted Putter Golf Tournament \n\nBenefiting the Military Affairs Committee
X-ALT-DESC;FMTTYPE=text/html:<strong><span style="font-family:arial\;"><span style="font-size:14px\;">2022 Busted Putter Golf Tournament&nbsp\;<br />\n<span style="font-size:12px\;">Benefiting the Military Affairs Committee</span></span></span></strong>
LOCATION:Abilene Country Club 4039 S Treadaway Blvd.
UID:e.3433.4678
SEQUENCE:3
DTSTAMP:20260425T130450Z
URL:https://business.abilenechamber.com/events/details/2022-busted-putter-golf-tournament-4678
END:VEVENT

END:VCALENDAR
