BEGIN:VCALENDAR
VERSION:2.0
PRODID:-//ChamberMaster//Event Calendar 2.0//EN
METHOD:PUBLISH
X-PUBLISHED-TTL:P3D
REFRESH-INTERVAL:P3D
CALSCALE:GREGORIAN
BEGIN:VEVENT
DTSTART:20210416T163000Z
DTEND:20210416T180000Z
X-MICROSOFT-CDO-ALLDAYEVENT:FALSE
SUMMARY:2021.04.16 MAC Quarterly Luncheon
DESCRIPTION:Join us for the first official MAC Quarterly Luncheon for 2021!!!  Our first guest speaker for the 2021 year will be Col Greg Young\,Commander 317th Airlift Wing. This will be Col Young's first time to speak to the MAC. You don't want to miss this presentation. \n\n \n\nSafety Protocols \n\n\n\n\n\n- To protect your health and the health of others\, masks are encouraged and will be on-hand for those who do not have one. We know that not all will feel the comfortable in a mask\, but in order to get back to some sort of "normalcy" it's a step we feel that we need to take to help ensure you remain healthy.\n\n\n\n \n\n\n\nProtecting the health and safety of everyone at our events is a shared responsibility and we know you as our valued partner stand ready to do your part. Let's take more steps toward economic recovery\, together. \n\n\n\n \n\n\n\n \n\n\n\nPlease note: This event is being photographed and/or videotaped and your image may be used in connection with the advertising and promotion of the Abilene Chamber of Commerce.
X-ALT-DESC;FMTTYPE=text/html:Join us for the first official MAC Quarterly Luncheon for 2021!!!&nbsp\; Our first guest speaker for the 2021 year will be Col Greg Young\,Commander 317th Airlift Wing. This will be Col Young&#39\;s first time to speak to the MAC. You don&#39\;t want to miss this presentation.&nbsp\;<br />\n&nbsp\;\n<div data-block="true" data-editor="3vi4h" data-offset-key="1fuk6-0-0" style="white-space: pre-wrap\; font-family: Helvetica\, Arial\, sans-serif\; color: rgb(28\, 30\, 33)\; font-size: 12px\;">\n<div class="_1mf _1mj" data-offset-key="1fuk6-0-0" style="position: relative\; direction: ltr\; font-family: inherit\;"><span data-offset-key="1fuk6-0-0" style="font-family: inherit\;">Safety Protocols </span></div>\n</div>\n\n<div data-block="true" data-editor="3vi4h" data-offset-key="3p441-0-0" style="white-space: pre-wrap\; font-family: Helvetica\, Arial\, sans-serif\; color: rgb(28\, 30\, 33)\; font-size: 12px\;">\n<div class="_1mf _1mj" data-offset-key="3p441-0-0" style="position: relative\; direction: ltr\; font-family: inherit\;"><br />\n<span data-offset-key="bpp2n-0-0" style="font-family: inherit\;">- To protect your health and the health of others\, masks are encouraged and will be on-hand for those who do not have one. We know that not all will feel the comfortable in a mask\, but in order to get back to some sort of &ldquo\;normalcy&rdquo\; it&rsquo\;s a step we feel that we need to take to help ensure you remain healthy.</span></div>\n</div>\n\n<div data-block="true" data-editor="3vi4h" data-offset-key="1hoet-0-0" style="white-space: pre-wrap\; font-family: Helvetica\, Arial\, sans-serif\; color: rgb(28\, 30\, 33)\; font-size: 12px\;">\n<div class="_1mf _1mj" data-offset-key="1hoet-0-0" style="position: relative\; direction: ltr\; font-family: inherit\;">&nbsp\;</div>\n</div>\n\n<div data-block="true" data-editor="3vi4h" data-offset-key="9c5np-0-0" style="white-space: pre-wrap\; font-family: Helvetica\, Arial\, sans-serif\; color: rgb(28\, 30\, 33)\; font-size: 12px\;">\n<div class="_1mf _1mj" data-offset-key="9c5np-0-0" style="position: relative\; direction: ltr\; font-family: inherit\;"><span data-offset-key="9c5np-0-0" style="font-family: inherit\;">Protecting the health and safety of everyone at our events is a shared responsibility and we know you as our valued partner stand ready to do your part. Let&rsquo\;s take more steps toward economic recovery\, together. </span></div>\n</div>\n\n<div data-block="true" data-editor="3vi4h" data-offset-key="focfc-0-0" style="white-space: pre-wrap\; font-family: Helvetica\, Arial\, sans-serif\; color: rgb(28\, 30\, 33)\; font-size: 12px\;">\n<div class="_1mf _1mj" data-offset-key="focfc-0-0" style="position: relative\; direction: ltr\; font-family: inherit\;">&nbsp\;</div>\n</div>\n\n<div data-block="true" data-editor="3vi4h" data-offset-key="53fsg-0-0" style="white-space: pre-wrap\; font-family: Helvetica\, Arial\, sans-serif\; color: rgb(28\, 30\, 33)\; font-size: 12px\;">\n<div class="_1mf _1mj" data-offset-key="53fsg-0-0" style="position: relative\; direction: ltr\; font-family: inherit\;">&nbsp\;</div>\n</div>\n\n<div data-block="true" data-editor="3vi4h" data-offset-key="689o1-0-0" style="white-space: pre-wrap\; font-family: Helvetica\, Arial\, sans-serif\; color: rgb(28\, 30\, 33)\; font-size: 12px\;">\n<div class="_1mf _1mj" data-offset-key="689o1-0-0" style="position: relative\; direction: ltr\; font-family: inherit\;"><span data-offset-key="689o1-0-0" style="font-family: inherit\;">Please note: This event is being photographed and/or videotaped and your image may be used in connection with the advertising and promotion of the Abilene Chamber of Commerce.</span></div>\n</div>\n
LOCATION:Abilene Country Club 3039 S Treadaway Blvd. Abilene\, Texas 79602
UID:e.3433.4299
SEQUENCE:3
DTSTAMP:20260423T185102Z
URL:https://business.abilenechamber.com/events/details/2021-04-16-mac-quarterly-luncheon-4299
END:VEVENT

END:VCALENDAR
