BEGIN:VCALENDAR
VERSION:2.0
PRODID:-//ChamberMaster//Event Calendar 2.0//EN
METHOD:PUBLISH
X-PUBLISHED-TTL:P3D
REFRESH-INTERVAL:P3D
CALSCALE:GREGORIAN
BEGIN:VEVENT
DTSTART:20200505T163000Z
DTEND:20200609T180000Z
X-MICROSOFT-CDO-ALLDAYEVENT:FALSE
SUMMARY:2020 Salute to Small Business Week
DESCRIPTION:We know how important your small business is to Abilene's economy. Our local small businesses employ families\, give back to non-profits\, help create events\, and help make Abilene   Abilene.\n\n \n\nWe're excited to announce that this year's Small Business Award recipients will be presented during the Chamber's Annual Membership Meeting and Awards Celebration.\n\n \n\nWith more than 85 percent of the Abilene Chamber's 1300 members being small businesses\, please know your Chamber is working harder than ever to make sure you have the support you need.\n\n\n\nThe Chamber will bestow four important peer recognition awards:\n\nSmall Business Young Entrepreneur of the Year\n\nSmall Business Community Investment Award\n\nFamily Owned Business of the Year \n\nNew Business of the Year \n\n\n\nThe Small Business Development Center (SBDC) will award the following:\n\nSmall Businessperson of the Year SBDC\n\nRural Small Business of the Year  SBDC\n\n\n\nPREVIOUS RECIPIENTS - NOMINATE A SMALL BUSINESS HERE\n\nPDF NOMINATION FORM\n\n\n\nDetails on how you can participate\, click here.\n\n\n\nPlease note: This event is being photographed and/or videotaped and your image may be used in connection with the advertising and promotion of the Abilene Chamber of Commerce.
X-ALT-DESC;FMTTYPE=text/html:<span style="font-size:16px\;">We know how important your small business is to Abilene&rsquo\;s economy. Our local small businesses employ families\, give back to non-profits\, help create events\, and help make Abilene &ndash\; Abilene.<br />\n&nbsp\;<br />\nWe&rsquo\;re excited to announce that this year&rsquo\;s Small Business Award recipients will be presented during the Chamber&rsquo\;s Annual Membership Meeting and Awards Celebration.<br />\n&nbsp\;<br />\nWith more than 85 percent of the Abilene Chamber&rsquo\;s 1300 members being small businesses\, please know your Chamber is working harder than ever to make sure you have the support you need.<br />\n<br />\n<span style="font-family:arial\;"><span style="color:#FF0000\;"><strong>The Chamber will bestow four important peer recognition awards:</strong></span><br />\n<strong>Small Business Young Entrepreneur of the Year<br />\nSmall Business Community Investment Award<br />\nFamily Owned Business of the Year&nbsp\;<br />\nNew Business of the Year&nbsp\;</strong><br />\n<br />\n<em><span style="color:#222222\;">The Small Business Development Center (SBDC) will award the following:</span></em></span></span><br />\n<span style="font-family:arial\;"><span style="font-size:16px\;"><strong><span style="color:#222222\;">Small Businessperson of the Year SBDC</span></strong><br />\n<strong><span style="color:#222222\;">Rural Small Business of the Year&nbsp\; SBDC</span></strong></span><br />\n<br />\n<span style="font-size:18px\;"><strong><a href="https://chambermaster.blob.core.windows.net/userfiles/UserFiles/chambers/3433/File/Small_Business_Awards_Luncheon/PreviousAwardFinalists_smallbizweek.pdf"><span style="color:#FF0000\;">PREVIOUS RECIPIENTS</span></a><span style="color:#FF0000\;">&nbsp\;- </span><a href="https://docs.google.com/forms/d/e/1FAIpQLScpRiLNS-dFeBj9B1CpGbAa3xqNguUMNz9zw3Xgp9LkMziTig/viewform"><span style="color:#FF0000\;">NOMINATE A SMALL BUSINESS HERE</span></a><br />\n<a href="https://chambermaster.blob.core.windows.net/userfiles/UserFiles/chambers/3433/File/Small_Business_Awards_Luncheon/SBAnomform1.pdf"><span style="color:#FF0000\;">PDF NOMINATION FORM</span></a></strong></span></span><br />\n<br />\n<span style="font-size:16px\;">Details on how you can participate\, <strong><a href="mailto:sburke@abilenechamber.com?subject=Details%20on%20Small%20Business%20Awards"><span style="color:#FF0000\;">click here</span></a></strong>.</span><br />\n<br />\n<span style="font-size: 7pt\; font-family: Arial\, sans-serif\; background-image: initial\; background-position: initial\; background-size: initial\; background-repeat: initial\; background-attachment: initial\; background-origin: initial\; background-clip: initial\;">Please note: This event is being photographed and/or videotaped and your image may be used in connection with the advertising and promotion of the Abilene Chamber of Commerce.</span>
LOCATION:
UID:e.3433.3884
SEQUENCE:3
DTSTAMP:20260421T051853Z
URL:https://business.abilenechamber.com/events/details/2020-salute-to-small-business-week-3884
END:VEVENT

END:VCALENDAR
