BEGIN:VCALENDAR
VERSION:2.0
PRODID:-//ChamberMaster//Event Calendar 2.0//EN
METHOD:PUBLISH
X-PUBLISHED-TTL:P3D
REFRESH-INTERVAL:P3D
CALSCALE:GREGORIAN
BEGIN:VEVENT
DTSTART:20200913T000000Z
DTEND:20200913T040000Z
X-MICROSOFT-CDO-ALLDAYEVENT:FALSE
SUMMARY:2020 Abilene HeartChella
DESCRIPTION:Since 1924\, we have been saving lives in your community by working with schools\, hospitals\, community centers and other local stakeholders. Our Mission is to be a relentless force for a world of longer\, healthier lives. Our research and educational programs are critical to helping people live stronger\, longer lives and build healthier communities all over the globe. Heart Ball Campaign celebrates our life-saving work and will continue to be a major driving force behind eradicating Heart Disease and Stroke. Visit our website at: AbileneHeartBall.heart.org.
X-ALT-DESC;FMTTYPE=text/html:Since 1924\, we have been saving lives in your community by working with schools\, hospitals\, community centers and other local stakeholders. Our Mission is to be a relentless force for a world of longer\, healthier lives. Our research and educational programs are critical to helping people live stronger\, longer lives and build healthier communities all over the globe. Heart Ball Campaign celebrates our life-saving work and will continue to be a major driving force behind eradicating Heart Disease and Stroke. Visit our website at: AbileneHeartBall.heart.org.
LOCATION:389 Venue 389 Walnut Street\, Abilene\, Texas 79601
UID:e.3433.3908
SEQUENCE:3
DTSTAMP:20260423T093957Z
URL:https://business.abilenechamber.com/events/details/2020-abilene-heartchella-3908
END:VEVENT

END:VCALENDAR
