BEGIN:VCALENDAR
VERSION:2.0
PRODID:-//ChamberMaster//Event Calendar 2.0//EN
METHOD:PUBLISH
X-PUBLISHED-TTL:P3D
REFRESH-INTERVAL:P3D
CALSCALE:GREGORIAN
BEGIN:VEVENT
DTSTART:20201117T173000Z
DTEND:20201117T190000Z
X-MICROSOFT-CDO-ALLDAYEVENT:FALSE
SUMMARY:2020.11.17 Hispanic Business Council Luncehon
DESCRIPTION:The Hispanic Business Council would like to invite you to their November networking luncheon on Tuesday\, November 17\, 2020.\n\nThis month the Hispanic Business Council will be joining to help KTAB with its annual Santa's Helpers Toy Drive. All you will need to do is bring a new toy\, and KTAB will donate them to less fortunate children in our community. Join us to help make a child smile this Christmas.\n\n\n\nThe first 40 people that pre-register will be guaranteed a seat\, and entered into a drawing for a $25 gift card. At this time will not be able to accept walk-ins. We'll continue to closely monitor COVID-19 and work closely with our sponsors\, local government\, and venues to ensure we're taking the best possible precautions so that you feel the most comfortable as an attendee. For more information please you can watch our short video here.
X-ALT-DESC;FMTTYPE=text/html:The Hispanic Business Council would like to invite you to their November networking luncheon on Tuesday\, November 17\, 2020.<br />\nThis month the Hispanic Business Council will be joining to help KTAB with its annual Santa&#39\;s Helpers Toy Drive. All you will need to do is bring a new toy\, and KTAB will donate them to less fortunate children in our community. Join us to help make a child smile this Christmas.<br />\n<br />\nThe first 40 people that pre-register will be guaranteed a seat\, and entered into a drawing for a $25 gift card. At this time will not be able to accept walk-ins. We&#39\;ll continue to closely monitor COVID-19 and work closely with our sponsors\, local government\, and venues to ensure we&#39\;re taking the best possible precautions so that you feel the most comfortable as an attendee. For more information please you can watch our short video&nbsp\;<a href="https://www.youtube.com/watch?v=vxs7Ia_cDcY&amp\;t=6s">here</a>.
LOCATION:Potter's Pizza 3802 Buffalo Gap Rd. Abilene\, Texas 79606
UID:e.3433.3951
SEQUENCE:3
DTSTAMP:20260423T120723Z
URL:https://business.abilenechamber.com/events/details/2020-11-17-hispanic-business-council-luncehon-3951
END:VEVENT

END:VCALENDAR
