BEGIN:VCALENDAR
VERSION:2.0
PRODID:-//ChamberMaster//Event Calendar 2.0//EN
METHOD:PUBLISH
X-PUBLISHED-TTL:P3D
REFRESH-INTERVAL:P3D
CALSCALE:GREGORIAN
BEGIN:VEVENT
DTSTART:20260217T173000Z
DTEND:20260217T190000Z
X-MICROSOFT-CDO-ALLDAYEVENT:FALSE
SUMMARY:2.17.26 Hispanic Business Council Luncheon sponsored by First Financial Bank
DESCRIPTION:Join the Hispanic Business Council for their monthly luncheon!\n\n\n\nThis networking luncheon is a great opportunity for you to connect with other business owners and community leaders and receive more information on how to become more involved in the community. Bring a friend or two and see what all the excitement is about with the HBC.\n\n\n\nThis luncheon series is sponsored by our friends at First Financial Bank! \n\n\n\nSee who's registered to attend here!
X-ALT-DESC;FMTTYPE=text/html:<span style="color: rgb(51\, 51\, 51)\; font-family: sans-serif\, Arial\, Verdana\, &quot\;Trebuchet MS&quot\;\; font-size: 13px\; background-color: rgb(255\, 255\, 255)\;">Join the Hispanic Business Council for their monthly luncheon!</span><br style="color: rgb(51\, 51\, 51)\; font-family: sans-serif\, Arial\, Verdana\, &quot\;Trebuchet MS&quot\;\; font-size: 13px\;" />\n<br style="color: rgb(51\, 51\, 51)\; font-family: sans-serif\, Arial\, Verdana\, &quot\;Trebuchet MS&quot\;\; font-size: 13px\;" />\n<span style="color: rgb(51\, 51\, 51)\; font-family: sans-serif\, Arial\, Verdana\, &quot\;Trebuchet MS&quot\;\; font-size: 13px\; background-color: rgb(255\, 255\, 255)\;">This networking luncheon is a great opportunity for you to connect with other business owners and community leaders and receive more information on how to become more involved in the community. Bring a friend or two and see what all the excitement is about with the HBC.</span><br style="color: rgb(51\, 51\, 51)\; font-family: sans-serif\, Arial\, Verdana\, &quot\;Trebuchet MS&quot\;\; font-size: 13px\;" />\n<br style="color: rgb(51\, 51\, 51)\; font-family: sans-serif\, Arial\, Verdana\, &quot\;Trebuchet MS&quot\;\; font-size: 13px\;" />\n<span style="color: rgb(51\, 51\, 51)\; font-family: sans-serif\, Arial\, Verdana\, &quot\;Trebuchet MS&quot\;\; font-size: 13px\; background-color: rgb(255\, 255\, 255)\;">This luncheon series is sponsored by our friends at First Financial Bank!&nbsp\;<br />\n<br />\nSee who&#39\;s registered to attend </span><span style="font-family: sans-serif\, Arial\, Verdana\, &quot\;Trebuchet MS&quot\;\; font-size: 13px\; background-color: rgb(255\, 255\, 255)\;"><a href="https://chambermaster.blob.core.windows.net/userfiles/UserFiles/chambers/3433/File/HBC_RSVPasof2.16.26.pdf"><span style="color:#FF0000\;"><strong>here</strong></span></a></span><span style="color: rgb(51\, 51\, 51)\; font-family: sans-serif\, Arial\, Verdana\, &quot\;Trebuchet MS&quot\;\; font-size: 13px\; background-color: rgb(255\, 255\, 255)\;">!&nbsp\;</span><br />\n&nbsp\;
LOCATION:Ice House at LSDG 173 Walnut St Abilene\, TX 79601
UID:e.3433.6004
SEQUENCE:3
DTSTAMP:20260423T094408Z
URL:https://business.abilenechamber.com/events/details/2-17-26-hispanic-business-council-luncheon-sponsored-by-first-financial-bank-6004
END:VEVENT

END:VCALENDAR
